BEGIN:VCALENDAR
VERSION:2.0
PRODID:-//Clinical &amp; Translational Sciences//NONSGML Events//EN
CALSCALE:GREGORIAN
X-ORIGINAL-URL:https://icts.wustl.edu/events/
X-WR-CALDESC:Clinical &amp; Translational Sciences - Events
BEGIN:VEVENT
UID:20200811T2148Z-1597182507.269-EO-17090-1@172.23.128.18
STATUS:CONFIRMED
DTSTAMP:20260425T141447Z
CREATED:20200811T205428Z
LAST-MODIFIED:20201013T123307Z
DTSTART;TZID=America/Chicago:20210406T120000
DTEND;TZID=America/Chicago:20210406T140000
SUMMARY: CRTC Annual Research Training Symposium and Poster Session
DESCRIPTION: View more
X-ALT-DESC;FMTTYPE=text/html: <div class="wp-block-button"><a class="wp-blo
 ck-button__link" href="https://crtc.wustl.edu/events/event/annual-research-
 training-symposium-and-poster-session/" target="blank" rel="noopener norefe
 rrer">View more</a></div>
LOCATION:Online - Zoom
GEO:38.635144;-90.262929
ORGANIZER;CN="McKinzie":MAILTO:tolliver.m@wustl.edu
URL;VALUE=URI:https://icts.wustl.edu/events/event/annual-research-training-
 symposium-and-poster-session/
END:VEVENT
BEGIN:VTIMEZONE
TZID:America/Chicago
BEGIN:DAYLIGHT
TZOFFSETFROM:-0600
TZOFFSETTO:-0500
DTSTART:20210314T080000
TZNAME:CDT
END:DAYLIGHT
END:VTIMEZONE
END:VCALENDAR
