BEGIN:VCALENDAR
VERSION:2.0
PRODID:-//Clinical &amp; Translational Sciences//NONSGML Events//EN
CALSCALE:GREGORIAN
X-ORIGINAL-URL:https://icts.wustl.edu/events/
X-WR-CALDESC:Clinical &amp; Translational Sciences - Events
BEGIN:VEVENT
UID:20210209T0341Z-1612842103.7445-EO-19942-1@172.23.128.19
STATUS:CONFIRMED
DTSTAMP:20260420T183906Z
CREATED:20210208T200834Z
LAST-MODIFIED:20210208T200834Z
DTSTART;TZID=America/Chicago:20210416T123000
DTEND;TZID=America/Chicago:20210416T133000
SUMMARY: Biostatistics Seminar
DESCRIPTION: Shu (Joy) Jiang\, Assistant Professor of Surgery\, Division of
  Public Health Sciences\, Washington University in St. Louis Title: TBA Vie
 w more
X-ALT-DESC;FMTTYPE=text/html: <p><a href="https://surgery.wustl.edu/people/
 shu-joy-jiang/">Shu (Joy) Jiang</a>\, Assistant Professor of Surgery\, Divi
 sion of Public Health Sciences\, Washington University in St. Louis</p><p><
 b>Title:</b> TBA</p><p><a href="https://biostatistics.wustl.edu/research/se
 minars/" target="_blank" rel="noopener">View more</a></p>
CATEGORIES:Division of Biostatistics Seminar Series
LOCATION:Online - Zoom
GEO:38.635144;-90.262929
ORGANIZER;CN="McKinzie":MAILTO:tolliver.m@wustl.edu
URL;VALUE=URI:https://icts.wustl.edu/events/event/biostatistics-seminar-10/
END:VEVENT
BEGIN:VTIMEZONE
TZID:America/Chicago
BEGIN:DAYLIGHT
TZOFFSETFROM:-0600
TZOFFSETTO:-0500
DTSTART:20210314T080000
TZNAME:CDT
END:DAYLIGHT
END:VTIMEZONE
END:VCALENDAR
