BEGIN:VCALENDAR
VERSION:2.0
PRODID:-//Clinical &amp; Translational Sciences//NONSGML Events//EN
CALSCALE:GREGORIAN
X-ORIGINAL-URL:https://icts.wustl.edu/events/
X-WR-CALDESC:Clinical &amp; Translational Sciences - Events
BEGIN:VEVENT
UID:20210209T0341Z-1612842103.7525-EO-19945-1@172.23.128.19
STATUS:CONFIRMED
DTSTAMP:20260414T120510Z
CREATED:20210208T200924Z
LAST-MODIFIED:20210208T200924Z
DTSTART;TZID=America/Chicago:20210430T123000
DTEND;TZID=America/Chicago:20210430T133000
SUMMARY: Biostatistics Seminar
DESCRIPTION: Soumendra Lahiri\, Department of Mathematics and Statistics\, 
 Washington University in St Louis Title:  TBA View more
X-ALT-DESC;FMTTYPE=text/html: <p><a href="https://math.wustl.edu/people/sou
 mendra-lahiri">Soumendra Lahiri</a>\, Department of Mathematics and Statist
 ics\, Washington University in St Louis</p><p><strong>Title</strong>:  TBA<
 /p><p><a href="https://biostatistics.wustl.edu/research/seminars/" target="
 _blank" rel="noopener">View more</a></p>
CATEGORIES:Division of Biostatistics Seminar Series
LOCATION:Online - Zoom
GEO:38.635144;-90.262929
ORGANIZER;CN="McKinzie":MAILTO:tolliver.m@wustl.edu
URL;VALUE=URI:https://icts.wustl.edu/events/event/biostatistics-seminar-11/
END:VEVENT
BEGIN:VTIMEZONE
TZID:America/Chicago
BEGIN:DAYLIGHT
TZOFFSETFROM:-0600
TZOFFSETTO:-0500
DTSTART:20210314T080000
TZNAME:CDT
END:DAYLIGHT
END:VTIMEZONE
END:VCALENDAR
