BEGIN:VCALENDAR
VERSION:2.0
PRODID:-//Clinical &amp; Translational Sciences//NONSGML Events//EN
CALSCALE:GREGORIAN
X-ORIGINAL-URL:https://icts.wustl.edu/events/
X-WR-CALDESC:Clinical &amp; Translational Sciences - Events
BEGIN:VEVENT
UID:20200207T0515Z-1581052536.9915-EO-7285-1@172.23.128.18
STATUS:CONFIRMED
DTSTAMP:20260414T120821Z
CREATED:20200109T140307Z
LAST-MODIFIED:20200109T140307Z
DTSTART;TZID=America/Chicago:20200403T123000
DTEND;TZID=America/Chicago:20200403T133000
SUMMARY: Biostatistics Seminar
DESCRIPTION: Xihong Lin\, Department of Biostatistics\, Harvard School of P
 ublic Health Title:  TBA Place: Becker Medical Library\, Graduate Program C
 lassroom\, 5th Floor\, Room 502 View more
X-ALT-DESC;FMTTYPE=text/html: <p><a href="https://www.hsph.harvard.edu/xiho
 ng-lin/">Xihong Lin</a>\, Department of Biostatistics\, Harvard School of P
 ublic Health</p><p>Title:  TBA</p><p>Place: Becker Medical Library\, Gradua
 te Program Classroom\, 5th Floor\, Room 502</p><div class="wp-block-button"
 ><a class="wp-block-button__link" href="https://biostatistics.wustl.edu/res
 earch/seminars/">View more</a></div>
CATEGORIES:Division of Biostatistics Seminar Series
LOCATION:Becker Medical Library
GEO:38.634579;-90.263109
ORGANIZER;CN="McKinzie":MAILTO:tolliver.m@wustl.edu
URL;VALUE=URI:https://icts.wustl.edu/events/event/biostatistics-seminar-4/
END:VEVENT
BEGIN:VTIMEZONE
TZID:America/Chicago
BEGIN:DAYLIGHT
TZOFFSETFROM:-0600
TZOFFSETTO:-0500
DTSTART:20200308T080000
TZNAME:CDT
END:DAYLIGHT
END:VTIMEZONE
END:VCALENDAR
