BEGIN:VCALENDAR
VERSION:2.0
PRODID:-//Clinical &amp; Translational Sciences//NONSGML Events//EN
CALSCALE:GREGORIAN
X-ORIGINAL-URL:https://icts.wustl.edu/events/
X-WR-CALDESC:Clinical &amp; Translational Sciences - Events
BEGIN:VEVENT
UID:20200207T0515Z-1581052537.0122-EO-7286-1@172.23.128.18
STATUS:CONFIRMED
DTSTAMP:20260420T015924Z
CREATED:20200109T140456Z
LAST-MODIFIED:20200109T140456Z
DTSTART;TZID=America/Chicago:20200424T123000
DTEND;TZID=America/Chicago:20200424T133000
SUMMARY: Biostatistics Seminar
DESCRIPTION: Vikas Singh\, Department of Biostatistics and Dept of Computer
  Sciences\, University of Wisconsin-Madison Title:  TBA Place: Becker Medic
 al Library\, Graduate Program Classroom\, 5th Floor\, Room 502 View more
X-ALT-DESC;FMTTYPE=text/html: <p><a href="https://www.biostat.wisc.edu/~vsi
 ngh/">Vikas Singh</a>\, Department of Biostatistics and Dept of Computer Sc
 iences\, University of Wisconsin-Madison</p><p>Title:  TBA</p><p>Place: Bec
 ker Medical Library\, Graduate Program Classroom\, 5th Floor\, Room 502</p>
 <div class="wp-block-button"><a class="wp-block-button__link" href="https:/
 /biostatistics.wustl.edu/research/seminars/">View more</a></div>
CATEGORIES:Division of Biostatistics Seminar Series
LOCATION:Becker Medical Library
GEO:38.634579;-90.263109
ORGANIZER;CN="McKinzie":MAILTO:tolliver.m@wustl.edu
URL;VALUE=URI:https://icts.wustl.edu/events/event/biostatistics-seminar-5/
END:VEVENT
BEGIN:VTIMEZONE
TZID:America/Chicago
BEGIN:DAYLIGHT
TZOFFSETFROM:-0600
TZOFFSETTO:-0500
DTSTART:20200308T080000
TZNAME:CDT
END:DAYLIGHT
END:VTIMEZONE
END:VCALENDAR
