BEGIN:VCALENDAR
VERSION:2.0
PRODID:-//Clinical &amp; Translational Sciences//NONSGML Events//EN
CALSCALE:GREGORIAN
X-ORIGINAL-URL:https://icts.wustl.edu/events/
X-WR-CALDESC:Clinical &amp; Translational Sciences - Events
BEGIN:VEVENT
UID:20210209T0341Z-1612842103.7009-EO-19930-1@172.23.128.19
STATUS:CONFIRMED
DTSTAMP:20260414T120631Z
CREATED:20210208T200156Z
LAST-MODIFIED:20210208T200156Z
DTSTART;TZID=America/Chicago:20210219T123000
DTEND;TZID=America/Chicago:20210219T133000
SUMMARY: Biostatistics Seminar
DESCRIPTION: Donald Hedeker\, Department of Public Health Sciences\, The Un
 iversity of Chicago Biological Sciences Title: Shared Parameter Mixed-Effec
 ts Location Scale Models for Intensive Longitudinal Data View more
X-ALT-DESC;FMTTYPE=text/html: <p><a href="https://health.uchicago.edu/facul
 ty/donald-hedeker-phd">Donald Hedeker</a>\, Department of Public Health Sci
 ences\, The University of Chicago Biological Sciences</p><p>Title: Shared P
 arameter Mixed-Effects Location Scale Models for Intensive Longitudinal Dat
 a</p><p><a href="https://biostatistics.wustl.edu/research/seminars/" target
 ="_blank" rel="noopener">View more</a></p>
CATEGORIES:Division of Biostatistics Seminar Series
LOCATION:Online - Zoom
GEO:38.635144;-90.262929
ORGANIZER;CN="McKinzie":MAILTO:tolliver.m@wustl.edu
URL;VALUE=URI:https://icts.wustl.edu/events/event/biostatistics-seminar-6/
END:VEVENT
BEGIN:VTIMEZONE
TZID:America/Chicago
BEGIN:STANDARD
TZOFFSETFROM:-0500
TZOFFSETTO:-0600
DTSTART:20201101T070000
TZNAME:CST
END:STANDARD
END:VTIMEZONE
END:VCALENDAR
