BEGIN:VCALENDAR
VERSION:2.0
PRODID:-//Clinical &amp; Translational Sciences//NONSGML Events//EN
CALSCALE:GREGORIAN
X-ORIGINAL-URL:https://icts.wustl.edu/events/
X-WR-CALDESC:Clinical &amp; Translational Sciences - Events
BEGIN:VEVENT
UID:20210209T0341Z-1612842103.7204-EO-19933-1@172.23.128.19
STATUS:CONFIRMED
DTSTAMP:20260414T120603Z
CREATED:20210208T200514Z
LAST-MODIFIED:20210208T200514Z
DTSTART;TZID=America/Chicago:20210305T123000
DTEND;TZID=America/Chicago:20210305T133000
SUMMARY: Biostatistics Seminar
DESCRIPTION: Han Chen\, Department of Epidemiology\, Human Genetics and Env
 ironmental Sciences\, University of Texas Health Science Center at Houston 
 Title: GEM: Scalable and Flexible Gene-Environment Interaction Analysis in 
 Millions of Samples View more
X-ALT-DESC;FMTTYPE=text/html: <p><a href="https://sbmi.uth.edu/faculty-and-
 staff/han-chen.htm">Han Chen</a>\, Department of Epidemiology\, Human Genet
 ics and Environmental Sciences\, University of Texas Health Science Center 
 at Houston</p><p>Title: GEM: Scalable and Flexible Gene-Environment Interac
 tion Analysis in Millions of Samples</p><p><a href="https://biostatistics.w
 ustl.edu/research/seminars/" target="_blank" rel="noopener">View more</a></
 p>
CATEGORIES:Division of Biostatistics Seminar Series
LOCATION:Online - Zoom
GEO:38.635144;-90.262929
ORGANIZER;CN="McKinzie":MAILTO:tolliver.m@wustl.edu
URL;VALUE=URI:https://icts.wustl.edu/events/event/biostatistics-seminar-7/
END:VEVENT
BEGIN:VTIMEZONE
TZID:America/Chicago
BEGIN:STANDARD
TZOFFSETFROM:-0500
TZOFFSETTO:-0600
DTSTART:20201101T070000
TZNAME:CST
END:STANDARD
END:VTIMEZONE
END:VCALENDAR
