BEGIN:VCALENDAR
VERSION:2.0
PRODID:-//Clinical &amp; Translational Sciences//NONSGML Events//EN
CALSCALE:GREGORIAN
X-ORIGINAL-URL:https://icts.wustl.edu/events/
X-WR-CALDESC:Clinical &amp; Translational Sciences - Events
BEGIN:VEVENT
UID:20210209T0341Z-1612842103.7295-EO-19936-1@172.23.128.19
STATUS:CONFIRMED
DTSTAMP:20260414T120603Z
CREATED:20210208T200631Z
LAST-MODIFIED:20210208T200631Z
DTSTART;TZID=America/Chicago:20210319T123000
DTEND;TZID=America/Chicago:20210319T133000
SUMMARY: Biostatistics Seminar
DESCRIPTION: Huilin Li\, Department of Population Health & Department of En
 vironmental Medicine\, NYU Langone Health Title:  Microbiome Data Analysis 
 in Longitudinal Study View more
X-ALT-DESC;FMTTYPE=text/html: <p><a href="https://med.nyu.edu/faculty/huili
 n-li">Huilin Li</a>\, Department of Population Health & Department of Envir
 onmental Medicine\, NYU Langone Health</p><p>Title:  Microbiome Data Analys
 is in Longitudinal Study</p><p><a href="https://biostatistics.wustl.edu/res
 earch/seminars/" target="_blank" rel="noopener">View more</a></p>
CATEGORIES:Division of Biostatistics Seminar Series
LOCATION:Online - Zoom
GEO:38.635144;-90.262929
ORGANIZER;CN="McKinzie":MAILTO:tolliver.m@wustl.edu
URL;VALUE=URI:https://icts.wustl.edu/events/event/biostatistics-seminar-8/
END:VEVENT
BEGIN:VTIMEZONE
TZID:America/Chicago
BEGIN:DAYLIGHT
TZOFFSETFROM:-0600
TZOFFSETTO:-0500
DTSTART:20210314T080000
TZNAME:CDT
END:DAYLIGHT
END:VTIMEZONE
END:VCALENDAR
