BEGIN:VCALENDAR
VERSION:2.0
PRODID:-//Clinical &amp; Translational Sciences//NONSGML Events//EN
CALSCALE:GREGORIAN
X-ORIGINAL-URL:https://icts.wustl.edu/events/
X-WR-CALDESC:Clinical &amp; Translational Sciences - Events
BEGIN:VEVENT
UID:20210209T0341Z-1612842103.7349-EO-19939-1@172.23.128.19
STATUS:CONFIRMED
DTSTAMP:20260414T120604Z
CREATED:20210208T200733Z
LAST-MODIFIED:20210208T200733Z
DTSTART;TZID=America/Chicago:20210402T123000
DTEND;TZID=America/Chicago:20210402T133000
SUMMARY: Biostatistics Seminar
DESCRIPTION: Aristeidis Sotiras\, Assistant Professor\, Department of Radio
 logy and Institute for Informatics\, Washington University in St. Louis Tit
 le:  TBA View more
X-ALT-DESC;FMTTYPE=text/html: <p><a href="https://informatics.wustl.edu/res
 earch-lab-aristeidis-sotiras/">Aristeidis Sotiras</a>\, Assistant Professor
 \, Department of Radiology and Institute for Informatics\, Washington Unive
 rsity in St. Louis</p><p>Title:  TBA</p><p><a href="https://biostatistics.w
 ustl.edu/research/seminars/" target="_blank" rel="noopener">View more</a></
 p>
CATEGORIES:Division of Biostatistics Seminar Series
LOCATION:Online - Zoom
GEO:38.635144;-90.262929
ORGANIZER;CN="McKinzie":MAILTO:tolliver.m@wustl.edu
URL;VALUE=URI:https://icts.wustl.edu/events/event/biostatistics-seminar-9/
END:VEVENT
BEGIN:VTIMEZONE
TZID:America/Chicago
BEGIN:DAYLIGHT
TZOFFSETFROM:-0600
TZOFFSETTO:-0500
DTSTART:20210314T080000
TZNAME:CDT
END:DAYLIGHT
END:VTIMEZONE
END:VCALENDAR
