BEGIN:VCALENDAR
VERSION:2.0
PRODID:-//Clinical &amp; Translational Sciences//NONSGML Events//EN
CALSCALE:GREGORIAN
X-ORIGINAL-URL:https://icts.wustl.edu/events/
X-WR-CALDESC:Clinical &amp; Translational Sciences - Events
BEGIN:VEVENT
UID:20210128T1047Z-1611830868.9279-EO-19660-1@172.23.128.19
STATUS:CONFIRMED
DTSTAMP:20260425T130408Z
CREATED:20210127T224028Z
LAST-MODIFIED:20210127T224028Z
DTSTART;TZID=America/Chicago:20210217T160000
DTEND;TZID=America/Chicago:20210217T170000
SUMMARY: Cancer Genome Sequencing – Clinical Implications
DESCRIPTION: This seminar series offers attendees a practical background in
  molecular biology and genetics\, an introduction to genomics technologies 
 and research\, and an understanding of the clinical application of genomics
  knowledge. Speaker – Ramaswamy Govindan\, MD Contact k.kreienkamp@wustl.ed
 u to learn more\, RSVP for individual seminar sessions\, or register for th
 e course.
X-ALT-DESC;FMTTYPE=text/html: <p>This seminar series offers attendees a pra
 ctical background in molecular biology and genetics\, an introduction to ge
 nomics technologies and research\, and an understanding of the clinical app
 lication of genomics knowledge.</p><p>Speaker - Ramaswamy Govindan\, MD</p>
 <p>Contact <a href="mailto:k.kreienkamp@wustl.edu">k.kreienkamp@wustl.edu</
 a> to learn more\, RSVP for individual seminar sessions\, or register for t
 he course.</p>
CATEGORIES:Genomics in Medicine Seminars
LOCATION:Online - Zoom
GEO:38.635144;-90.262929
ORGANIZER;CN="McKinzie":MAILTO:tolliver.m@wustl.edu
URL;VALUE=URI:https://icts.wustl.edu/events/event/cancer-genome-sequencing-
 clinical-implications/
END:VEVENT
BEGIN:VTIMEZONE
TZID:America/Chicago
BEGIN:STANDARD
TZOFFSETFROM:-0500
TZOFFSETTO:-0600
DTSTART:20201101T070000
TZNAME:CST
END:STANDARD
END:VTIMEZONE
END:VCALENDAR
