BEGIN:VCALENDAR
VERSION:2.0
PRODID:-//Clinical &amp; Translational Sciences//NONSGML Events//EN
CALSCALE:GREGORIAN
X-ORIGINAL-URL:https://icts.wustl.edu/events/
X-WR-CALDESC:Clinical &amp; Translational Sciences - Events
BEGIN:VEVENT
UID:20181125T1832Z-1543170761.9809-EO-13780-1@172.23.128.19
STATUS:CONFIRMED
DTSTAMP:20260423T103547Z
CREATED:20191220T215924Z
LAST-MODIFIED:20191226T213128Z
DTSTART;TZID=America/Chicago:20181221T120000
DTEND;TZID=America/Chicago:20181221T160000
SUMMARY: Cancer Genomics “Hands-On” Workshop
DESCRIPTION: Cancer Genomics “Hands-On” Workshop For Residents\, Fellows\, 
 and Faculty who are interested in learning about Genomics in Medicine Decem
 ber 21\, 2018 Noon to 4:00 pm 11th Floor MCC – Main Conference Room Program
  Outline Course Faculty  Ramaswamy Govindan M.D. – Director\, Section of M
 edical Oncology\, Washington University School of Medicine  Richard Haspel
 \, M.D.\, […]
X-ALT-DESC;FMTTYPE=text/html: <p><span style="font-size: medium\;">Cancer G
 enomics "Hands-On" Workshop </span></p><p>For Residents\, Fellows\, and Fac
 ulty who are interested in learning about Genomics in Medicine</p><p>Decemb
 er 21\, 2018</p><p>Noon to 4:00 pm</p><table dir="LTR" border="1" width="10
 72" cellspacing="0" cellpadding="10"><tbody><tr><td colspan="2" valign="TOP
 " height="10"><b></b><b><span style="font-family: Times New Roman\,Times Ne
 w Roman PS\; font-size: medium\;">11</span><span style="font-family: Times 
 New Roman\,Times New Roman PS\; font-size: xx-small\;">th </span><span styl
 e="font-family: Times New Roman\,Times New Roman PS\; font-size: medium\;">
 Floor MCC - Main Conference Room </span></b>Program Outline</td></tr><tr><t
 d valign="TOP" width="50%" height="110"><b></b><span style="font-family: Ti
 mes New Roman\,Times New Roman PS\; font-size: medium\;"><b>Course Faculty 
 </b></span></td><td valign="TOP" width="50%" height="110"> Ramaswamy Govin
 dan M.D. – Director\, Section of Medical Oncology\, Washington University S
 chool of Medicine</p><p> Richard Haspel\, M.D.\, Ph.D. – Director of Medic
 al Education\, Department of Pathology\, Beth Israel Deaconess Medical Cent
 er</p><p> Obi Griffith Ph.D. – Assistant Professor of Medicine\, Assistant
  Director of the McDonnell Genome Institute\, Washington University School 
 of Medicine</p><p> Jonathan Heusel M.D\, Ph.D. – Professor of Pathology an
 d Genetics\, Director\, Clinical & Translational Genomics\, Washington Univ
 ersity School of Medicine</td></tr><tr><td valign="TOP" width="50%" height=
 "107"><b></b><span style="font-family: Times New Roman\,Times New Roman PS\
 ; font-size: medium\;"><b>Overall Structure </b></span></td><td valign="TOP
 " width="50%" height="107">Each exercise consists of:</p><p><span style="fo
 nt-family: Times New Roman\,Times New Roman PS\; font-size: medium\;"><b>1.
  </b></span><span style="font-size: medium\;">An instructor-delivered 15-30
  minute PowerPoint lecture to relay content needed to undertake the team-ba
 sed learning (TBL) activity. </span></p><p><b></b><span style="font-family:
  Times New Roman\,Times New Roman PS\; font-size: medium\;"><b>2. </b></spa
 n><span style="font-size: medium\;">A 45-60 minute activity consisting of t
 eams of 3-6 participants working together to answer a series of clinically 
 relevant questions including some necessitating the use of online genomic t
 ools. </span></p><p><b></b><span style="font-family: Times New Roman\,Times
  New Roman PS\; font-size: medium\;"><b>3. </b></span><span style="font-siz
 e: medium\;">An instructor-delivered 15-30minute PowerPoint lecture present
 ing answers to the questions and incorporating a discussion of team respons
 es </span></td></tr><tr><td valign="TOP" width="50%" height="38"><b></b><sp
 an style="font-family: Times New Roman\,Times New Roman PS\; font-size: med
 ium\;"><b>Introduction to Workshop and Lunch </b></span></td><td valign="TO
 P" width="50%" height="38"><span style="font-size: medium\;">12:00 – 12:30p
 m </span></td></tr><tr><td valign="TOP" width="50%" height="79">Exercise 1<
 /p><p><span style="font-size: medium\;">Cancer Gene Panels: Methods and App
 lication Objectives </span></td><td valign="TOP" width="50%" height="79">12
 :30 – 1:30pm</p><p>1. Describe the process for selecting a cancer gene pane
 l.</p><p>2. Describe different methods for detecting DNA variants (targeted
  PCR vs. Sanger-based vs. NGS-Based)</p><p>3. Use online tools to interpret
  the clinical significance of genomic data</p><p>4. Determine appropriate c
 linical trials based on cancer gene panel data</td></tr><tr><td valign="TOP
 " width="50%" height="14"><span style="font-size: medium\;">Break </span></
 td><td valign="TOP" width="50%" height="14"><span style="font-size: medium\
 ;">1:30 – 1:45pm </span></td></tr><tr><td valign="TOP" width="50%" height="
 93">Exercise 2</p><p>Cancer Gene Panels:</p><p><span style="font-size: medi
 um\;">Result Interpretation and Clinical Utility Objectives </span></td><td
  valign="TOP" width="50%" height="93">1:45 – 2:45pm</p><p>1. Describe key a
 spects to discuss with patients prior to genomic analysis</p><p>2. Describe
  the process of NGS data analysis</p><p>3. Describe the benefits and limita
 tions of integrative genomic analyses for advanced cancer patients</p><p>4.
  Describe the reporting issues related to germline findings</p><p>5. Use on
 line tools to interpret the clinical significance of genomic data</td></tr>
 <tr><td valign="TOP" width="50%" height="24"><b></b><span style="font-famil
 y: Times New Roman\,Times New Roman PS\; font-size: medium\;"><b>Questions/
 Panel Discussion </b></span></td><td valign="TOP" width="50%" height="24"><
 span style="font-size: medium\;">2:45 – 3:15pm </span></td></tr></tbody></t
 able>
LOCATION:Mid Campus Center (MCC)
GEO:38.636075;-90.260387
ORGANIZER;CN="McKinzie":MAILTO:tolliver.m@wustl.edu
URL;VALUE=URI:https://icts.wustl.edu/events/event/cancer-genomics-hands-on-
 workshop/
END:VEVENT
BEGIN:VTIMEZONE
TZID:America/Chicago
BEGIN:STANDARD
TZOFFSETFROM:-0500
TZOFFSETTO:-0600
DTSTART:20181104T070000
TZNAME:CST
END:STANDARD
END:VTIMEZONE
END:VCALENDAR
