BEGIN:VCALENDAR
VERSION:2.0
PRODID:-//Clinical &amp; Translational Sciences//NONSGML Events//EN
CALSCALE:GREGORIAN
X-ORIGINAL-URL:https://icts.wustl.edu/events/
X-WR-CALDESC:Clinical &amp; Translational Sciences - Events
BEGIN:VEVENT
UID:20181219T0114Z-1545182098.9286-EO-14140-1@172.23.128.19
STATUS:CONFIRMED
DTSTAMP:20260414T121324Z
CREATED:20191220T215925Z
LAST-MODIFIED:20191226T213129Z
DTSTART;TZID=America/Chicago:20190409T153000
DTEND;TZID=America/Chicago:20190409T170000
SUMMARY: Career Development Seminar – “Communicating your science”
DESCRIPTION: Wohl Auditorium4950 Children’s Place\, St. Louis\, Missouri 63
 110 “Communicating your science” Alan Leshner\, PhDAmerican Association for
  the Advancement of Science Washington University in St. LouisAdvance regis
 tration not required\, free and open to all
X-ALT-DESC;FMTTYPE=text/html: <p>Wohl Auditorium<br />4950 Children's Place
 \, St. Louis\, Missouri 63110</p><p><strong>“Communicating your science”</s
 trong></p><p><b>Alan Leshner\, PhD<br /></b>American Association for the Ad
 vancement of Science<b><br /></b></p><p>Washington University in St. Louis<
 br />Advance registration not required\, free and open to all</p>
ORGANIZER;CN="McKinzie":MAILTO:tolliver.m@wustl.edu
URL;VALUE=URI:https://icts.wustl.edu/events/event/career-development-semina
 r-communicating-your-science/
END:VEVENT
BEGIN:VTIMEZONE
TZID:America/Chicago
BEGIN:DAYLIGHT
TZOFFSETFROM:-0600
TZOFFSETTO:-0500
DTSTART:20190310T080000
TZNAME:CDT
END:DAYLIGHT
END:VTIMEZONE
END:VCALENDAR
