BEGIN:VCALENDAR
VERSION:2.0
PRODID:-//Clinical &amp; Translational Sciences//NONSGML Events//EN
CALSCALE:GREGORIAN
X-ORIGINAL-URL:https://icts.wustl.edu/events/
X-WR-CALDESC:Clinical &amp; Translational Sciences - Events
BEGIN:VEVENT
UID:20170718T2110Z-1500412246.6665-EO-8570-1@172.20.65.30
STATUS:CONFIRMED
DTSTAMP:20260414T121025Z
CREATED:20191220T215923Z
LAST-MODIFIED:20191226T213125Z
DTSTART;TZID=America/Chicago:20180213T153000
DTEND;TZID=America/Chicago:20180213T170000
SUMMARY: Career Development Seminar: Managing Research Collaborations
DESCRIPTION: “Managing Research Collaborations” Nicholas Davidson\, MD\, DS
 c Washington University in St. Louis Advance registration not required\, fr
 ee and open to all
X-ALT-DESC;FMTTYPE=text/html: <p>"Managing Research Collaborations"</p><p>N
 icholas Davidson\, MD\, DSc</p><p>Washington University in St. Louis</p><p>
 Advance registration not required\, free and open to all</p>
LOCATION:Wohl Auditorium
GEO:38.636292;-90.261070
ORGANIZER;CN="McKinzie":MAILTO:tolliver.m@wustl.edu
URL;VALUE=URI:https://icts.wustl.edu/events/event/career-development-semina
 r-managing-research-collaborations/
END:VEVENT
BEGIN:VTIMEZONE
TZID:America/Chicago
BEGIN:STANDARD
TZOFFSETFROM:-0500
TZOFFSETTO:-0600
DTSTART:20171105T070000
TZNAME:CST
END:STANDARD
END:VTIMEZONE
END:VCALENDAR
