BEGIN:VCALENDAR
VERSION:2.0
PRODID:-//Clinical &amp; Translational Sciences//NONSGML Events//EN
CALSCALE:GREGORIAN
X-ORIGINAL-URL:https://icts.wustl.edu/events/
X-WR-CALDESC:Clinical &amp; Translational Sciences - Events
BEGIN:VEVENT
UID:20190812T1542Z-1565624563.6179-EO-15578-1@172.23.128.19
STATUS:CONFIRMED
DTSTAMP:20260425T091658Z
CREATED:20191220T215925Z
LAST-MODIFIED:20200109T140900Z
DTSTART;TZID=America/Chicago:20200211T153000
DTEND;TZID=America/Chicago:20200211T170000
SUMMARY: “Media Relations and Best Practices”
DESCRIPTION: Judy Martin Finch Caroline Arbanas Washington University in St
 . Louis Advance registration not required\, free and open to all For more i
 nformation\, please contact Jennifer Mosher (mosherj@wustl.edu)
X-ALT-DESC;FMTTYPE=text/html: <p>Judy Martin Finch<br />Caroline Arbanas</p
 ><p>Washington University in St. Louis<br />Advance registration not requir
 ed\, free and open to all</p><p>For more information\, please contact Jenni
 fer Mosher (<a href="mailto:mosherj@wustl.edu">mosherj@wustl.edu</a>)</p>
CATEGORIES:Career Development Seminar
LOCATION:Wohl Auditorium
GEO:38.636292;-90.261070
ORGANIZER;CN="McKinzie":MAILTO:tolliver.m@wustl.edu
URL;VALUE=URI:https://icts.wustl.edu/events/event/career-development-semina
 r-media-relations-and-best-practices/
END:VEVENT
BEGIN:VTIMEZONE
TZID:America/Chicago
BEGIN:STANDARD
TZOFFSETFROM:-0500
TZOFFSETTO:-0600
DTSTART:20191103T070000
TZNAME:CST
END:STANDARD
END:VTIMEZONE
END:VCALENDAR
