BEGIN:VCALENDAR
VERSION:2.0
PRODID:-//Clinical &amp; Translational Sciences//NONSGML Events//EN
CALSCALE:GREGORIAN
X-ORIGINAL-URL:https://icts.wustl.edu/events/
X-WR-CALDESC:Clinical &amp; Translational Sciences - Events
BEGIN:VEVENT
UID:20190812T1542Z-1565624563.6084-EO-15575-1@172.23.128.19
STATUS:CONFIRMED
DTSTAMP:20260425T185114Z
CREATED:20191220T215925Z
LAST-MODIFIED:20200109T140609Z
DTSTART;TZID=America/Chicago:20200114T153000
DTEND;TZID=America/Chicago:20200114T170000
SUMMARY: “Negotiating Effectively for Workplace Success”
DESCRIPTION: “Negotiating Effectively for Workplace Success” Rebecca Hollan
 der-Blumoff\, JD\, PhD Professor of Law Washington University Co-Sponsored 
 by: The Clinical Research Training Center Office of Faculty Development – D
 epartment of Medicine Office of Inclusion and Diversity – Department of Med
 icine Forum for Women in Medicine (FWIM) Washington University in St. Louis
  Advance registration not required\, free and […]
X-ALT-DESC;FMTTYPE=text/html: <p><strong>"Negotiating Effectively for Workp
 lace Success"</strong></p><p>Rebecca Hollander-Blumoff\, JD\, PhD<br />Prof
 essor of Law<br />Washington University</p><p><b>Co-Sponsored by:</b></p><u
 l><li>The Clinical Research Training Center</li><li>Office of Faculty Devel
 opment – Department of Medicine</li><li>Office of Inclusion and Diversity -
  Department of Medicine</li><li>Forum for Women in Medicine (FWIM)</li></ul
 ><p>Washington University in St. Louis<br />Advance registration not requir
 ed\, free and open to all</p><p>For more information\, please contact Jenni
 fer Mosher (<a href="mailto:mosherj@wustl.edu">mosherj@wustl.edu</a>)</p>
CATEGORIES:Career Development Seminar
LOCATION:Wohl Auditorium
GEO:38.636292;-90.261070
ORGANIZER;CN="McKinzie":MAILTO:tolliver.m@wustl.edu
URL;VALUE=URI:https://icts.wustl.edu/events/event/career-development-semina
 r-negotiating-effectively-for-workplace-success/
END:VEVENT
BEGIN:VTIMEZONE
TZID:America/Chicago
BEGIN:STANDARD
TZOFFSETFROM:-0500
TZOFFSETTO:-0600
DTSTART:20191103T070000
TZNAME:CST
END:STANDARD
END:VTIMEZONE
END:VCALENDAR
