BEGIN:VCALENDAR
VERSION:2.0
PRODID:-//Clinical &amp; Translational Sciences//NONSGML Events//EN
CALSCALE:GREGORIAN
X-ORIGINAL-URL:https://icts.wustl.edu/events/
X-WR-CALDESC:Clinical &amp; Translational Sciences - Events
BEGIN:VEVENT
UID:20211004T1438Z-1633358334.9411-EO-24019-1@172.23.128.19
STATUS:CONFIRMED
DTSTAMP:20260423T134306Z
CREATED:20211004T143738Z
LAST-MODIFIED:20211004T143738Z
DTSTART;TZID=America/Chicago:20211008T090000
DTEND;TZID=America/Chicago:20211008T103000
SUMMARY: CHEPAR with Michael Barnett & Allison King
DESCRIPTION: The Center for Health Economics and Policy holds monthly meeti
 ngs of the Collaborative of Health Economics and Policy Analysis Researcher
 s\, or CHEPAR. The purpose of the group is to facilitate research in the ar
 eas of health economics and policy by Washington University investigators. 
 Learn more and register here.
X-ALT-DESC;FMTTYPE=text/html: <p>The Center for Health Economics and Policy
  holds monthly meetings of the Collaborative of Health Economics and Policy
  Analysis Researchers\, or CHEPAR. The purpose of the group is to facilitat
 e research in the areas of health economics and policy by Washington Univer
 sity investigators.</p><p><a href="https://publichealth.wustl.edu/calendar_
 event/chepar-meeting-oct2021/" target="_blank" rel="noopener">Learn more an
 d register here.</a></p>
LOCATION:Online - Zoom
GEO:38.635144;-90.262929
ORGANIZER;CN="McKinzie":MAILTO:tolliver.m@wustl.edu
URL;VALUE=URI:https://icts.wustl.edu/events/event/chepar-with-michael-barne
 tt-allison-king/
END:VEVENT
BEGIN:VTIMEZONE
TZID:America/Chicago
BEGIN:DAYLIGHT
TZOFFSETFROM:-0600
TZOFFSETTO:-0500
DTSTART:20210314T080000
TZNAME:CDT
END:DAYLIGHT
END:VTIMEZONE
END:VCALENDAR
