BEGIN:VCALENDAR
VERSION:2.0
PRODID:-//Clinical &amp; Translational Sciences//NONSGML Events//EN
CALSCALE:GREGORIAN
X-ORIGINAL-URL:https://icts.wustl.edu/events/
X-WR-CALDESC:Clinical &amp; Translational Sciences - Events
BEGIN:VEVENT
UID:20201226T0129Z-1608946180.3869-EO-19085-1@172.23.128.19
STATUS:CONFIRMED
DTSTAMP:20260414T121303Z
CREATED:20201223T202931Z
LAST-MODIFIED:20201223T204317Z
DTSTART;TZID=America/Chicago:20210219T100000
DTEND;TZID=America/Chicago:20210219T120000
SUMMARY: Collaborative Cafe: Building and Extending Community-Engaged Resea
 rch
DESCRIPTION: For more information/To register
X-ALT-DESC;FMTTYPE=text/html: <p><a href="https://publichealth.wustl.edu/ev
 ents/building-and-extending-community-engaged-research/">For more informati
 on/To register</a></p>
ORGANIZER;CN="Brian":MAILTO:bmarston@wustl.edu
URL;VALUE=URI:https://icts.wustl.edu/events/event/collaborative-cafe-buildi
 ng-and-extending-community-engaged-research/
END:VEVENT
BEGIN:VTIMEZONE
TZID:America/Chicago
BEGIN:STANDARD
TZOFFSETFROM:-0500
TZOFFSETTO:-0600
DTSTART:20201101T070000
TZNAME:CST
END:STANDARD
END:VTIMEZONE
END:VCALENDAR
