BEGIN:VCALENDAR
VERSION:2.0
PRODID:-//Clinical &amp; Translational Sciences//NONSGML Events//EN
CALSCALE:GREGORIAN
X-ORIGINAL-URL:https://icts.wustl.edu/events/
X-WR-CALDESC:Clinical &amp; Translational Sciences - Events
BEGIN:VEVENT
UID:20200930T0342Z-1601437372.6926-EO-17765-1@172.23.128.19
STATUS:CONFIRMED
DTSTAMP:20260425T232258Z
CREATED:20200929T195529Z
LAST-MODIFIED:20200929T195529Z
DTSTART;TZID=America/Chicago:20201008T163000
DTEND;TZID=America/Chicago:20201008T183000
SUMMARY: Community-Academic Partnerships Aimed at Intersectional Issues in 
 Aging
DESCRIPTION: The Center for Community Health Partnership & Research is team
 ing up with the Harvey A. Friedman Center for Aging and Institute of Clinic
 al and Translational Sciences’ Aging Clinical Research Consortium for this 
 edition of Pitch Partners: Community-Academic Partnerships Addressing Inter
 sectional Issues in Aging. learn more and register
X-ALT-DESC;FMTTYPE=text/html: <p>The <a href="https://publichealth.wustl.ed
 u/community/about/">Center for Community Health Partnership & Research</a> 
 is teaming up with the <a href="https://publichealth.wustl.edu/aging/about/
 ">Harvey A. Friedman Center for Aging</a> and <a href="https://publichealth
 .wustl.edu/news/new-consortium-for-aging-clinical-research/">Institute of C
 linical and Translational Sciences’ Aging Clinical Research Consortium</a> 
 for this edition of Pitch Partners: <strong><em>Community-Academic Partners
 hips Addressing Intersectional Issues in Aging</em></strong>.</p><div class
 ="wp-block-button"><a class="wp-block-button__link" href="https://publichea
 lth.wustl.edu/events/online-community-academic-partnerships-aimed-at-inters
 ectional-issues-in-aging/" target="blank" rel="noopener noreferrer">learn m
 ore and register</a></div>
LOCATION:Online - Zoom
GEO:38.635144;-90.262929
ORGANIZER;CN="McKinzie":MAILTO:tolliver.m@wustl.edu
URL;VALUE=URI:https://icts.wustl.edu/events/event/community-academic-partne
 rships-aimed-at-intersectional-issues-in-aging/
END:VEVENT
BEGIN:VTIMEZONE
TZID:America/Chicago
BEGIN:DAYLIGHT
TZOFFSETFROM:-0600
TZOFFSETTO:-0500
DTSTART:20200308T080000
TZNAME:CDT
END:DAYLIGHT
END:VTIMEZONE
END:VCALENDAR
