BEGIN:VCALENDAR
VERSION:2.0
PRODID:-//Clinical &amp; Translational Sciences//NONSGML Events//EN
CALSCALE:GREGORIAN
X-ORIGINAL-URL:https://icts.wustl.edu/events/
X-WR-CALDESC:Clinical &amp; Translational Sciences - Events
BEGIN:VEVENT
UID:20210823T1848Z-1629744521.0091-EO-23263-1@172.23.128.19
STATUS:CONFIRMED
DTSTAMP:20260424T075408Z
CREATED:20210823T161518Z
LAST-MODIFIED:20210823T161531Z
DTSTART;TZID=America/Chicago:20210930T130000
DTEND;TZID=America/Chicago:20210930T150000
SUMMARY: Creating Connections: An Introduction to the Alda Method
DESCRIPTION: Learn more and register here The capacity for the workshops is
  limited to 100\, so we’ve decided to prioritize registration for WUSM. Peo
 ple from outside the med school can still register and they’ll be accepted 
 if events don’t reach capacity.
X-ALT-DESC;FMTTYPE=text/html: <p><a href="https://becker.wustl.edu/scicomm/
 " target="_blank" rel="noopener">Learn more and register here</a></p><p><em
 >The capacity for the workshops is limited to 100\, so we’ve decided to pri
 oritize registration for WUSM. People from outside the med school can still
  register and they’ll be accepted if events don’t reach capacity.</em></p>
CATEGORIES:#SciComm Seminars
ORGANIZER;CN="McKinzie":MAILTO:tolliver.m@wustl.edu
URL;VALUE=URI:https://icts.wustl.edu/events/event/creating-connections-an-i
 ntroduction-to-the-alda-method/
ATTACH;FMTTYPE=image/png:https://icts.wustl.edu/app/uploads/2021/08/SciComm-Seminars-Header-768x112-1.png
END:VEVENT
BEGIN:VTIMEZONE
TZID:America/Chicago
BEGIN:DAYLIGHT
TZOFFSETFROM:-0600
TZOFFSETTO:-0500
DTSTART:20210314T080000
TZNAME:CDT
END:DAYLIGHT
END:VTIMEZONE
END:VCALENDAR
