BEGIN:VCALENDAR
VERSION:2.0
PRODID:-//Clinical &amp; Translational Sciences//NONSGML Events//EN
CALSCALE:GREGORIAN
X-ORIGINAL-URL:https://icts.wustl.edu/events/
X-WR-CALDESC:Clinical &amp; Translational Sciences - Events
BEGIN:VEVENT
UID:20211004T1810Z-1633371005.076-EO-24061-1@172.23.128.19
STATUS:CONFIRMED
DTSTAMP:20260424T003045Z
CREATED:20211004T174503Z
LAST-MODIFIED:20211004T174503Z
DTSTART;TZID=America/Chicago:20211110T120000
DTEND;TZID=America/Chicago:20211110T130000
SUMMARY: Crowdsourcing: Opportunities and challenges within Implementation 
 Science (D&I Seminar)
DESCRIPTION: CDI will host Juliet Iwelnumor\, PhD (SLU) and Joseph Tucker\,
  MD\, PhD (UNC School of Medicine) to speak about crowdsourcing. This talk 
 is part of the seminar speaker series hosted by the Center for Disseminatio
 n and Implementation. Learn more and register here.
X-ALT-DESC;FMTTYPE=text/html: <p>CDI will host Juliet Iwelnumor\, PhD (SLU)
  and Joseph Tucker\, MD\, PhD (UNC School of Medicine) to speak about crowd
 sourcing. This talk is part of the seminar speaker series hosted by the Cen
 ter for Dissemination and Implementation.</p><p><a href="https://implementa
 tionresearch.wustl.edu/calendar_event/crowdsourcing-opportunities-and-chall
 enges-within-implementation-science/" target="_blank" rel="noopener">Learn 
 more and register here</a>.</p>
LOCATION:Online - Zoom
GEO:38.635144;-90.262929
ORGANIZER;CN="McKinzie":MAILTO:tolliver.m@wustl.edu
URL;VALUE=URI:https://icts.wustl.edu/events/event/crowdsourcing-opportuniti
 es-and-challenges-within-implementation-science-di-seminar/
END:VEVENT
BEGIN:VTIMEZONE
TZID:America/Chicago
BEGIN:STANDARD
TZOFFSETFROM:-0500
TZOFFSETTO:-0600
DTSTART:20211107T070000
TZNAME:CST
END:STANDARD
END:VTIMEZONE
END:VCALENDAR
