BEGIN:VCALENDAR
VERSION:2.0
PRODID:-//Clinical &amp; Translational Sciences//NONSGML Events//EN
CALSCALE:GREGORIAN
X-ORIGINAL-URL:https://icts.wustl.edu/events/
X-WR-CALDESC:Clinical &amp; Translational Sciences - Events
BEGIN:VEVENT
UID:20211004T1810Z-1633371005.0642-EO-24055-1@172.23.128.19
STATUS:CONFIRMED
DTSTAMP:20260423T221357Z
CREATED:20211004T174159Z
LAST-MODIFIED:20211004T174159Z
DTSTART;TZID=America/Chicago:20211104T130000
DTEND;TZID=America/Chicago:20211104T163000
SUMMARY: Dissemination & Implementation Research: An Introductory Workshop 
 for Investigators
DESCRIPTION: The goal of this two-day workshop is to help participants gain
  introductory knowledge and applied skills with D&I research as well as con
 nect with other like-minded investigators. Event goes 1:00 – 4:30pm CST bot
 h days. Learn more and register here.
X-ALT-DESC;FMTTYPE=text/html: <p>The goal of this two-day workshop is to he
 lp participants gain introductory knowledge and applied skills with D&I res
 earch as well as connect with other like-minded investigators. Event goes 1
 :00 – 4:30pm CST both days.</p><p><a href="https://implementationresearch.w
 ustl.edu/calendar_event/dandi-workshop/" target="_blank" rel="noopener">Lea
 rn more and register here.</a></p>
LOCATION:Online - Zoom
GEO:38.635144;-90.262929
ORGANIZER;CN="McKinzie":MAILTO:tolliver.m@wustl.edu
URL;VALUE=URI:https://icts.wustl.edu/events/event/dissemination-implementat
 ion-research-an-introductory-workshop-for-investigators/
END:VEVENT
BEGIN:VTIMEZONE
TZID:America/Chicago
BEGIN:DAYLIGHT
TZOFFSETFROM:-0500
TZOFFSETTO:-0500
DTSTART:20210314T080000
TZNAME:CDT
END:DAYLIGHT
END:VTIMEZONE
END:VCALENDAR
