BEGIN:VCALENDAR
VERSION:2.0
PRODID:-//Clinical &amp; Translational Sciences//NONSGML Events//EN
CALSCALE:GREGORIAN
X-ORIGINAL-URL:https://icts.wustl.edu/events/
X-WR-CALDESC:Clinical &amp; Translational Sciences - Events
BEGIN:VEVENT
UID:20190114T1718Z-1547486339.9029-EO-14445-1@172.23.128.18
STATUS:CONFIRMED
DTSTAMP:20260425T201533Z
CREATED:20191220T215924Z
LAST-MODIFIED:20191226T213129Z
DTSTART;TZID=America/Chicago:20190118T120000
DTEND;TZID=America/Chicago:20190118T130000
SUMMARY: Dori Beeler\, PhD – Visiting Professorship Lecture
DESCRIPTION: Hosted by the Division of Public Health Sciences\, Department 
 of Surgery Childhood cancer is different: Connecting health experiences\, s
 urvivorship and cancer disparities using an anthropological approach
X-ALT-DESC;FMTTYPE=text/html: <p>Hosted by the Division of Public Health Sc
 iences\, Department of Surgery</p><p>Childhood cancer is different: Connect
 ing health experiences\, survivorship and cancer disparities using an anthr
 opological approach</p>
LOCATION:Taylor Avenue Building\, Doll &amp\; Hill Room
GEO:38.634726;-90.259032
ORGANIZER;CN="McKinzie":MAILTO:tolliver.m@wustl.edu
URL;VALUE=URI:https://icts.wustl.edu/events/event/dori-beeler-phd-visiting-
 professorship-lecture/
END:VEVENT
BEGIN:VTIMEZONE
TZID:America/Chicago
BEGIN:STANDARD
TZOFFSETFROM:-0500
TZOFFSETTO:-0600
DTSTART:20181104T070000
TZNAME:CST
END:STANDARD
END:VTIMEZONE
END:VCALENDAR
