BEGIN:VCALENDAR
VERSION:2.0
PRODID:-//Clinical &amp; Translational Sciences//NONSGML Events//EN
CALSCALE:GREGORIAN
X-ORIGINAL-URL:https://icts.wustl.edu/events/
X-WR-CALDESC:Clinical &amp; Translational Sciences - Events
BEGIN:VEVENT
UID:20200210T1415Z-1581344107.162-EO-10406-1@172.23.128.18
STATUS:CONFIRMED
DTSTAMP:20260425T230528Z
CREATED:20200207T140811Z
LAST-MODIFIED:20200207T140811Z
DTSTART;TZID=America/Chicago:20200218T150000
DTEND;TZID=America/Chicago:20200218T160000
SUMMARY: From Professional to Personal: Communication Tips from Children’s 
 Mom Docs
DESCRIPTION: Location – Room 205 Join us for this #SciComm Seminar to learn
  how St. Louis Children’s Hospital’s “Mom Docs” program provides clear comm
 unication about complex health care topics. Speakers: Jamie Kondis\, MD Ass
 istant Professor of Pediatrics\, Pediatrics Emergency Medicine Washington U
 niversity School of Medicine Kendra Whittle Media Relations Consultant BJC 
 Healthcare View more and Register
X-ALT-DESC;FMTTYPE=text/html: <p><em><span class="adr"><span class="street-
 address">Location - Room 205</span></span></em></p><p>Join us for this <a h
 ref="https://becker.wustl.edu/scicomm/" target="blank" rel="noopener norefe
 rrer">#SciComm Seminar</a> to learn how St. Louis Children's Hospital's "Mo
 m Docs" program provides clear communication about complex health care topi
 cs.</p><p>Speakers:</p><p><strong>Jamie Kondis\, MD</strong><br />Assistant
  Professor of Pediatrics\, Pediatrics Emergency Medicine<br />Washington Un
 iversity School of Medicine</p><p><strong>Kendra Whittle</strong><br />Medi
 a Relations Consultant<br />BJC Healthcare</p><div class="wp-block-button">
 <a class="wp-block-button__link" href="https://becker.wustl.edu/civicrm/?pa
 ge=CiviCRM&q=civicrm/event/info&reset=1&id=208" target="blank" rel="noopene
 r noreferrer">View more and Register</a></div>
CATEGORIES:#SciComm Seminars
LOCATION:Farrell Learning and Teaching Center
GEO:38.634745;-90.262682
ORGANIZER;CN="McKinzie":MAILTO:tolliver.m@wustl.edu
URL;VALUE=URI:https://icts.wustl.edu/events/event/from-professional-to-pers
 onal-communication-tips-from-childrens-mom-docs/
END:VEVENT
BEGIN:VTIMEZONE
TZID:America/Chicago
BEGIN:STANDARD
TZOFFSETFROM:-0500
TZOFFSETTO:-0600
DTSTART:20191103T070000
TZNAME:CST
END:STANDARD
END:VTIMEZONE
END:VCALENDAR
