BEGIN:VCALENDAR
VERSION:2.0
PRODID:-//Clinical &amp; Translational Sciences//NONSGML Events//EN
CALSCALE:GREGORIAN
X-ORIGINAL-URL:https://icts.wustl.edu/events/
X-WR-CALDESC:Clinical &amp; Translational Sciences - Events
BEGIN:VEVENT
UID:20200207T0515Z-1581052536.8686-EO-5716-1@172.23.128.18
STATUS:CONFIRMED
DTSTAMP:20260421T232002Z
CREATED:20191119T155252Z
LAST-MODIFIED:20191119T155543Z
DTSTART;TZID=America/Chicago:20191204T160000
DTEND;TZID=America/Chicago:20191204T170000
SUMMARY: Functional Genomics and Genome Engineering\, Xiaoxia Cui\, PhD
DESCRIPTION: This seminar series offers attendees a practical background in
  molecular biology and genetics\, an introduction to genomics technologies 
 and research\, and an understanding of the clinical application of genomics
  knowledge. Download the flyer for more information. Contact cjsharp@wustl.
 edu with questions.
X-ALT-DESC;FMTTYPE=text/html: <p>This seminar series offers attendees a pra
 ctical background in molecular biology and genetics\, an introduction to ge
 nomics technologies and research\, and an understanding of the clinical app
 lication of genomics knowledge. <a href="https://crtc.wustl.edu/app/uploads
 /Fall-2019-GIMSeminar_SpeakerList-1.pdf">Download the flyer</a> for more in
 formation.</p><p>Contact <a href="mailto:cjsharp@wustl.edu">cjsharp@wustl.e
 du</a> with questions.</p>
CATEGORIES:Genomics in Medicine Seminars
LOCATION:Holden Auditorium
GEO:38.633601;-90.263462
ORGANIZER;CN="McKinzie":MAILTO:tolliver.m@wustl.edu
URL;VALUE=URI:https://icts.wustl.edu/events/event/functional-genomics-and-g
 enome-engineering-xiaoxia-cui-phd/
END:VEVENT
BEGIN:VTIMEZONE
TZID:America/Chicago
BEGIN:STANDARD
TZOFFSETFROM:-0500
TZOFFSETTO:-0600
DTSTART:20191103T070000
TZNAME:CST
END:STANDARD
END:VTIMEZONE
END:VCALENDAR
