BEGIN:VCALENDAR
VERSION:2.0
PRODID:-//Clinical &amp; Translational Sciences//NONSGML Events//EN
CALSCALE:GREGORIAN
X-ORIGINAL-URL:https://icts.wustl.edu/events/
X-WR-CALDESC:Clinical &amp; Translational Sciences - Events
BEGIN:VEVENT
UID:20220711T1730Z-1657560627.0652-EO-29275-1@172.23.128.18
STATUS:CONFIRMED
DTSTAMP:20260423T004900Z
CREATED:20220711T171943Z
LAST-MODIFIED:20220711T171943Z
DTSTART;TZID=America/Chicago:20221207T160000
DTEND;TZID=America/Chicago:20221207T170000
SUMMARY: Genomics in Medicine
DESCRIPTION: Topic/Title: Proteomics & Mass Spec Speaker: Jason Held\, PhD 
 This lecture series is designed for clinicians and other interested persons
 \, including basic science researchers\, students\, residents\, fellows\, p
 ost-doctoral scholars\, and anyone else who wishes to learn more about thes
 e topics from WUSM faculty experts. All professionals from ICTS Partner Ins
 titutions are welcome to participate. Students interested […]
X-ALT-DESC;FMTTYPE=text/html: <p><strong>Topic/Title: </strong>Proteomics &
  Mass Spec</p><p><strong>Speaker: </strong>Jason Held\, PhD</p><p>This lect
 ure series is designed for clinicians and other interested persons\, includ
 ing basic science researchers\, students\, residents\, fellows\, post-docto
 ral scholars\, and anyone else who wishes to learn more about these topics 
 from WUSM faculty experts. All professionals from ICTS Partner Institutions
  are welcome to participate.</p><p>Students interested in enrolling in the 
 seminar series for credit can earn up to two units of academic credit.</p><
 p>This seminar series offers attendees a practical background in molecular 
 biology and genetics\, an introduction to genomics technologies and researc
 h\, and an understanding of the clinical application of genomics knowledge.
 </p><p><strong>Contact:</strong> Karlee Kreienkamp (<a href="mailto:k.kreie
 nkamp@wustl.edu">k.kreienkamp@wustl.edu</a>) to learn more\, RSVP for indiv
 idual seminar sessions\, or register for the course.</p>
CATEGORIES:Genomics in Medicine Seminars
LOCATION:Online - Zoom
GEO:38.635144;-90.262929
ORGANIZER;CN="McKinzie":MAILTO:tolliver.m@wustl.edu
URL;VALUE=URI:https://icts.wustl.edu/events/event/genomics-in-medicine-13/
END:VEVENT
BEGIN:VTIMEZONE
TZID:America/Chicago
BEGIN:STANDARD
TZOFFSETFROM:-0500
TZOFFSETTO:-0600
DTSTART:20221106T070000
TZNAME:CST
END:STANDARD
END:VTIMEZONE
END:VCALENDAR
