BEGIN:VCALENDAR
VERSION:2.0
PRODID:-//Clinical &amp; Translational Sciences//NONSGML Events//EN
CALSCALE:GREGORIAN
X-ORIGINAL-URL:https://icts.wustl.edu/events/
X-WR-CALDESC:Clinical &amp; Translational Sciences - Events
BEGIN:VEVENT
UID:20180924T1930Z-1537817439.9857-EO-12588-1@172.20.65.30
STATUS:CONFIRMED
DTSTAMP:20260425T091507Z
CREATED:20191220T215924Z
LAST-MODIFIED:20191226T213127Z
DTSTART;TZID=America/Chicago:20181114T160000
DTEND;TZID=America/Chicago:20181114T170000
SUMMARY: Genomics in Medicine Fall 2018
DESCRIPTION: Functional Genomics and Genome Engineering – Xiaoxia Cui\, PhD
X-ALT-DESC;FMTTYPE=text/html: <p>Functional Genomics and Genome Engineering
  - Xiaoxia Cui\, PhD</p>
LOCATION:Holden Auditorium
GEO:38.633601;-90.263462
ORGANIZER;CN="McKinzie":MAILTO:tolliver.m@wustl.edu
URL;VALUE=URI:https://icts.wustl.edu/events/event/genomics-in-medicine-fall
 -2018-8/
END:VEVENT
BEGIN:VTIMEZONE
TZID:America/Chicago
BEGIN:STANDARD
TZOFFSETFROM:-0500
TZOFFSETTO:-0600
DTSTART:20181104T070000
TZNAME:CST
END:STANDARD
END:VTIMEZONE
END:VCALENDAR
