BEGIN:VCALENDAR
VERSION:2.0
PRODID:-//Clinical &amp; Translational Sciences//NONSGML Events//EN
CALSCALE:GREGORIAN
X-ORIGINAL-URL:https://icts.wustl.edu/events/
X-WR-CALDESC:Clinical &amp; Translational Sciences - Events
BEGIN:VEVENT
UID:20180924T1957Z-1537819020.0289-EO-12591-1@172.21.70.41
STATUS:CONFIRMED
DTSTAMP:20260425T083813Z
CREATED:20191220T215924Z
LAST-MODIFIED:20191226T213127Z
DTSTART;VALUE=DATE:20181121
DTEND;VALUE=DATE:20181122
SUMMARY: Genomics In Medicine Fall 2018
DESCRIPTION: NO SEMINAR – THANKSGIVING WEEK
X-ALT-DESC;FMTTYPE=text/html: <p>NO SEMINAR - THANKSGIVING WEEK</p>
ORGANIZER;CN="McKinzie":MAILTO:tolliver.m@wustl.edu
URL;VALUE=URI:https://icts.wustl.edu/events/event/genomics-in-medicine-fall
 -2018-9/
END:VEVENT
BEGIN:VTIMEZONE
TZID:America/Chicago
BEGIN:STANDARD
TZOFFSETFROM:-0500
TZOFFSETTO:-0600
DTSTART:20181104T070000
TZNAME:CST
END:STANDARD
END:VTIMEZONE
END:VCALENDAR
