BEGIN:VCALENDAR
VERSION:2.0
PRODID:-//Clinical &amp; Translational Sciences//NONSGML Events//EN
CALSCALE:GREGORIAN
X-ORIGINAL-URL:https://icts.wustl.edu/events/
X-WR-CALDESC:Clinical &amp; Translational Sciences - Events
BEGIN:VEVENT
UID:20180924T1856Z-1537815418.8212-EO-12555-1@172.21.70.41
STATUS:CONFIRMED
DTSTAMP:20260424T093934Z
CREATED:20191220T215923Z
LAST-MODIFIED:20191226T213126Z
DTSTART;TZID=America/Chicago:20180926T160000
DTEND;TZID=America/Chicago:20180926T170000
SUMMARY: Genomics in Medicine Fall 2018
DESCRIPTION: Statistics for Genomics Research – Michael Province\, PhD
X-ALT-DESC;FMTTYPE=text/html: <p>Statistics for Genomics Research - Michael
  Province\, PhD</p>
LOCATION:Holden Auditorium
GEO:38.633601;-90.263462
ORGANIZER;CN="McKinzie":MAILTO:tolliver.m@wustl.edu
URL;VALUE=URI:https://icts.wustl.edu/events/event/genomics-in-medicine-fall
 -2018/
END:VEVENT
BEGIN:VTIMEZONE
TZID:America/Chicago
BEGIN:DAYLIGHT
TZOFFSETFROM:-0600
TZOFFSETTO:-0500
DTSTART:20180311T080000
TZNAME:CDT
END:DAYLIGHT
END:VTIMEZONE
END:VCALENDAR
