BEGIN:VCALENDAR
VERSION:2.0
PRODID:-//Clinical &amp; Translational Sciences//NONSGML Events//EN
CALSCALE:GREGORIAN
X-ORIGINAL-URL:https://icts.wustl.edu/events/
X-WR-CALDESC:Clinical &amp; Translational Sciences - Events
BEGIN:VEVENT
UID:20181211T2027Z-1544560031.3853-EO-14011-1@172.23.128.19
STATUS:CONFIRMED
DTSTAMP:20260422T221540Z
CREATED:20191220T215924Z
LAST-MODIFIED:20200207T140421Z
DTSTART;TZID=America/Chicago:20190115T100000
DTEND;TZID=America/Chicago:20190115T150000
SUMMARY: ICTS 2019 Symposium and Poster Session
X-ALT-DESC;FMTTYPE=text/html: 
LOCATION:Eric P. Newman Education Center
GEO:38.636891;-90.262391
ORGANIZER;CN="McKinzie":MAILTO:tolliver.m@wustl.edu
URL;VALUE=URI:https://icts.wustl.edu/events/event/icts-2019-symposium-and-p
 oster-session/
END:VEVENT
BEGIN:VTIMEZONE
TZID:America/Chicago
BEGIN:STANDARD
TZOFFSETFROM:-0500
TZOFFSETTO:-0600
DTSTART:20181104T070000
TZNAME:CST
END:STANDARD
END:VTIMEZONE
END:VCALENDAR
