BEGIN:VCALENDAR
VERSION:2.0
PRODID:-//Clinical &amp; Translational Sciences//NONSGML Events//EN
CALSCALE:GREGORIAN
X-ORIGINAL-URL:https://icts.wustl.edu/events/
X-WR-CALDESC:Clinical &amp; Translational Sciences - Events
BEGIN:VEVENT
UID:20171219T0311Z-1513653107.6468-EO-10317-1@172.20.65.30
STATUS:CONFIRMED
DTSTAMP:20260423T201238Z
CREATED:20191220T215923Z
LAST-MODIFIED:20191226T213126Z
DTSTART;VALUE=DATE:20180423
DTEND;VALUE=DATE:20180428
SUMMARY: Innovation Lab – Warrenton\, VA
DESCRIPTION: Hosted by Vanderbilt University from April 23-27Application de
 adline: February 9\, 2018 For more information visit: http://www.buffalo.ed
 u/innovationlabs/warrenton.html Innovation Lab – Warrenton\, VA www.buffalo
 .edu The theme of Innovation Lab Vanderbilt is Staying Power: Developing Li
 festyle Interventions that Last. Ample research is aimed at achieving weigh
 t loss and a wide range of intervention types have significant short-term e
 ffectiveness\, but […]
X-ALT-DESC;FMTTYPE=text/html: <p>Hosted by Vanderbilt University from April
  23-27<br />Application deadline: February 9\, 2018</p><p class="xmsonormal
 "><span style="font-size: 12.0pt\; color: black\;">For more information vis
 it: <a href="http://www.buffalo.edu/innovationlabs/warrenton.html">http://w
 ww.buffalo.edu/innovationlabs/warrenton.html</a></span></p><table width="90
 %"><tbody><tr><td><a href="http://www.buffalo.edu/innovationlabs/warrenton.
 html">Innovation Lab - Warrenton\, VA</a></p><p><a href="http://www.buffalo
 .edu">www.buffalo.edu</a></p><p>The theme of Innovation Lab Vanderbilt is S
 taying Power: Developing Lifestyle Interventions that Last. Ample research 
 is aimed at achieving weight loss and a wide range of intervention types ha
 ve significant short-term effectiveness\, but few have long-term success. O
 ne can accept that this frustrating reality represents a struggle against h
 uman nature to return to ingrained patterns\, or propose that we are simply
  not adequately focused on the next step\, which is supporting change\, pre
 venting relapse and exploiting novel tools to do so.</td></tr></tbody></tab
 le><p> </p>
ORGANIZER;CN="McKinzie":MAILTO:tolliver.m@wustl.edu
URL;VALUE=URI:https://icts.wustl.edu/events/event/innovation-lab-warrenton-
 va/
END:VEVENT
BEGIN:VTIMEZONE
TZID:America/Chicago
BEGIN:DAYLIGHT
TZOFFSETFROM:-0600
TZOFFSETTO:-0500
DTSTART:20180311T080000
TZNAME:CDT
END:DAYLIGHT
END:VTIMEZONE
END:VCALENDAR
