BEGIN:VCALENDAR
VERSION:2.0
PRODID:-//Clinical &amp; Translational Sciences//NONSGML Events//EN
CALSCALE:GREGORIAN
X-ORIGINAL-URL:https://icts.wustl.edu/events/
X-WR-CALDESC:Clinical &amp; Translational Sciences - Events
BEGIN:VEVENT
UID:20200217T2056Z-1581972988.1404-EO-10580-1@172.23.128.19
STATUS:CONFIRMED
DTSTAMP:20260423T132240Z
CREATED:20200217T171058Z
LAST-MODIFIED:20200616T174410Z
DTSTART;TZID=America/Chicago:20200618T160000
DTEND;TZID=America/Chicago:20200618T170000
SUMMARY: Jennifer N. Silva\, MD & Jonathan Silva\, PhD
DESCRIPTION: Precision Medicine Thursdays at Venture Café – From Idea to Se
 ntiAR: An Unexpected Journey to Entrepreneurship Attendance is FREE.  Regis
 tration available at the event. Venture Café Virtual View more
X-ALT-DESC;FMTTYPE=text/html: <p><strong>Precision Medicine Thursdays at Ve
 nture Café - From Idea to SentiAR: An Unexpected Journey to Entrepreneurshi
 p</strong></p><p><em>Attendance is FREE.  Registration available at the eve
 nt.</em></p><p><em><a href="https://venturecafestl.org/thisweek/" target="b
 lank" rel="noopener noreferrer">Venture Café Virtual</a><br /></em></p><div
  class="wp-block-button"><a class="wp-block-button__link" href="https://ict
 spm.wustl.edu/calendar_event/jennifer-silva/" target="blank" rel="noopener 
 noreferrer">View more</a></div>
CATEGORIES:Precision Health
LOCATION:Venture Café St. Louis
GEO:38.634399;-90.250249
ORGANIZER;CN="McKinzie":MAILTO:tolliver.m@wustl.edu
URL;VALUE=URI:https://icts.wustl.edu/events/event/jennifer-n-silva-md-jonat
 han-silva-phd/
END:VEVENT
BEGIN:VTIMEZONE
TZID:America/Chicago
BEGIN:DAYLIGHT
TZOFFSETFROM:-0600
TZOFFSETTO:-0500
DTSTART:20200308T080000
TZNAME:CDT
END:DAYLIGHT
END:VTIMEZONE
END:VCALENDAR
