BEGIN:VCALENDAR
VERSION:2.0
PRODID:-//Clinical &amp; Translational Sciences//NONSGML Events//EN
CALSCALE:GREGORIAN
X-ORIGINAL-URL:https://icts.wustl.edu/events/
X-WR-CALDESC:Clinical &amp; Translational Sciences - Events
BEGIN:VEVENT
UID:20181221T1807Z-1545415671.7448-EO-14197-1@172.23.128.19
STATUS:CONFIRMED
DTSTAMP:20260425T085254Z
CREATED:20191220T215924Z
LAST-MODIFIED:20191226T213129Z
DTSTART;VALUE=DATE:20190121
DTEND;VALUE=DATE:20190122
SUMMARY: Martin Luther King Day – No Classes
X-ALT-DESC;FMTTYPE=text/html: 
ORGANIZER;CN="McKinzie":MAILTO:tolliver.m@wustl.edu
URL;VALUE=URI:https://icts.wustl.edu/events/event/martin-luther-king-day-no
 -classes/
END:VEVENT
BEGIN:VTIMEZONE
TZID:America/Chicago
BEGIN:STANDARD
TZOFFSETFROM:-0500
TZOFFSETTO:-0600
DTSTART:20181104T070000
TZNAME:CST
END:STANDARD
END:VTIMEZONE
END:VCALENDAR
