BEGIN:VCALENDAR
VERSION:2.0
PRODID:-//Clinical &amp; Translational Sciences//NONSGML Events//EN
CALSCALE:GREGORIAN
X-ORIGINAL-URL:https://icts.wustl.edu/events/
X-WR-CALDESC:Clinical &amp; Translational Sciences - Events
BEGIN:VEVENT
UID:20210205T0038Z-1612485500.9283-EO-19894-1@172.23.128.19
STATUS:CONFIRMED
DTSTAMP:20260422T202739Z
CREATED:20210204T221516Z
LAST-MODIFIED:20210204T221516Z
DTSTART;TZID=America/Chicago:20210312T090000
DTEND;TZID=America/Chicago:20210312T120000
SUMMARY: Medicaid Expansion Research Workshop
DESCRIPTION: In July of 2021\, Missouri will become the 39th state to expan
 d eligibility for its Medicaid program. This workshop\, presented by the Ce
 nter for Health Economics & Policy\, is designed to inform researchers on: 
 The potential impacts of Medicaid expansion in Missouri How to incorporate 
 Medicaid expansion into research How to increase chances of obtaining […]
X-ALT-DESC;FMTTYPE=text/html: <p>In July of 2021\, Missouri will become the
  39th state to expand eligibility for its Medicaid program. This workshop\,
  presented by the Center for Health Economics & Policy\, is designed to inf
 orm researchers on:</p><ul><li>The potential impacts of Medicaid expansion 
 in Missouri</li><li>How to incorporate Medicaid expansion into research</li
 ><li>How to increase chances of obtaining grant funding</li></ul><p><a href
 ="https://publichealth.wustl.edu/events/medicaidworkshop/" target="_blank" 
 rel="noopener">Learn more and register here.</a></p>
LOCATION:Online - Zoom
GEO:38.635144;-90.262929
ORGANIZER;CN="McKinzie":MAILTO:tolliver.m@wustl.edu
URL;VALUE=URI:https://icts.wustl.edu/events/event/medicaid-expansion-resear
 ch-workshop/
END:VEVENT
BEGIN:VTIMEZONE
TZID:America/Chicago
BEGIN:STANDARD
TZOFFSETFROM:-0600
TZOFFSETTO:-0600
DTSTART:20201101T070000
TZNAME:CST
END:STANDARD
END:VTIMEZONE
END:VCALENDAR
