BEGIN:VCALENDAR
VERSION:2.0
PRODID:-//Clinical &amp; Translational Sciences//NONSGML Events//EN
CALSCALE:GREGORIAN
X-ORIGINAL-URL:https://icts.wustl.edu/events/
X-WR-CALDESC:Clinical &amp; Translational Sciences - Events
BEGIN:VEVENT
UID:20190506T1428Z-1557152910.0807-EO-14967-1@172.23.128.19
STATUS:CONFIRMED
DTSTAMP:20260425T181151Z
CREATED:20191220T215925Z
LAST-MODIFIED:20191226T213130Z
DTSTART;VALUE=DATE:20190915
DTEND;VALUE=DATE:20190916
SUMMARY: MSCI-MTPCI Application Cycle Opens for January 2020 Start Date
X-ALT-DESC;FMTTYPE=text/html: 
ORGANIZER;CN="McKinzie":MAILTO:tolliver.m@wustl.edu
URL;VALUE=URI:https://icts.wustl.edu/events/event/msci-mtpci-application-cy
 cle-opens-for-january-2020-start-date/
END:VEVENT
BEGIN:VTIMEZONE
TZID:America/Chicago
BEGIN:DAYLIGHT
TZOFFSETFROM:-0600
TZOFFSETTO:-0500
DTSTART:20190310T080000
TZNAME:CDT
END:DAYLIGHT
END:VTIMEZONE
END:VCALENDAR
