BEGIN:VCALENDAR
VERSION:2.0
PRODID:-//Clinical &amp; Translational Sciences//NONSGML Events//EN
CALSCALE:GREGORIAN
X-ORIGINAL-URL:https://icts.wustl.edu/events/
X-WR-CALDESC:Clinical &amp; Translational Sciences - Events
BEGIN:VEVENT
UID:20210430T0927Z-1619774845.0208-EO-21226-1@172.23.128.19
STATUS:CONFIRMED
DTSTAMP:20260423T023454Z
CREATED:20210429T132943Z
LAST-MODIFIED:20210429T132943Z
DTSTART;TZID=America/Chicago:20210505T110000
DTEND;TZID=America/Chicago:20210505T123000
SUMMARY: Next Generation Omics Analysis: CompBio v2.0 Enabling Translationa
 l Omics Analytics for Human Disease
DESCRIPTION: Speaker: Professor Richard Head\, Director\, GTAC@MGI\, McDonn
 ell Genome Institute\, Washington University Zoom link: https://wustl-hipaa
 .zoom.us/j/92811026628 (alternative link: tinyurl.com/CompBio-v2) Abstract:
  Various ‘omics technologies produce large data sets that can be difficult 
 to sift through in search of insights. In 2018 we invented the CompBio plat
 form was to facilitate true multi-omic analysis. Compbio is based on a nove
 l approach\, known […]
X-ALT-DESC;FMTTYPE=text/html: <p><strong>Speaker:</strong> Professor Richar
 d Head\, Director\,<br />GTAC@MGI\, McDonnell Genome Institute\, Washington
  University</p><p><strong>Zoom link:<br /></strong><strong><a href="https:/
 /wustl-hipaa.zoom.us/j/92811026628">https://wustl-hipaa.zoom.us/j/928110266
 28</a><br /></strong>(alternative link: <a href="https://wustl-hipaa.zoom.u
 s/j/92811026628#success">tinyurl.com/CompBio-v2</a>)</p><p><strong>Abstract
 :<br /></strong>Various ‘omics technologies produce large data sets that ca
 n be difficult to sift through in search of insights. In 2018 we invented t
 he CompBio platform was to facilitate true multi-omic analysis. Compbio is 
 based on a novel approach\, known as Contextual Language Processing (CLP)\,
  that employs the entirety of PubMed abstracts and millions of full-text pa
 pers.  CLP is used to create “knowledge maps” out of ALL unique terms found
  in the biomedical corpus. With only light training\, Compbio allows the us
 er to input their own data which is then contextualized within the knowledg
 e maps. WashU researchers have use these insights to publish in several hig
 h-end journals.</p><p>Over the last two years\, we have developed a far mor
 e powerful version of the platform based on artificial intelligence and mac
 hine learning which allows generalized detection of patterns of concepts wi
 thin biomedical literature.  One of the key aspects of this new suite of to
 ols is the ability to compare human disease profiles with animal models and
  drug profiles.  Professor Head\, chief inventor\, will discuss the concept
 ual design\, demonstrate features and usability\, distinguish Compbio from 
 traditional pathway tools\, and review both major publications and the larg
 e-scale human disease profiles the suite includes.</p>
LOCATION:Online - Zoom
GEO:38.635144;-90.262929
ORGANIZER;CN="McKinzie":MAILTO:tolliver.m@wustl.edu
URL;VALUE=URI:https://icts.wustl.edu/events/event/next-generation-omics-ana
 lysis-compbio-v2-0-enabling-translational-omics-analytics-for-human-disease
 /
END:VEVENT
BEGIN:VTIMEZONE
TZID:America/Chicago
BEGIN:DAYLIGHT
TZOFFSETFROM:-0600
TZOFFSETTO:-0500
DTSTART:20210314T080000
TZNAME:CDT
END:DAYLIGHT
END:VTIMEZONE
END:VCALENDAR
