BEGIN:VCALENDAR
VERSION:2.0
PRODID:-//Clinical &amp; Translational Sciences//NONSGML Events//EN
CALSCALE:GREGORIAN
X-ORIGINAL-URL:https://icts.wustl.edu/events/
X-WR-CALDESC:Clinical &amp; Translational Sciences - Events
BEGIN:VEVENT
UID:20220628T1857Z-1656442642.6062-EO-29059-1@172.23.128.18
STATUS:CONFIRMED
DTSTAMP:20260414T120139Z
CREATED:20220628T183156Z
LAST-MODIFIED:20220628T183156Z
DTSTART;TZID=America/Chicago:20220728T170000
DTEND;TZID=America/Chicago:20220728T183000
SUMMARY: NextGen & Dalton Cardiovascular Forum
DESCRIPTION: After a two-year interruption\, the NextGen & Dalton Cardiovas
 cular Forum is to be re-started (July\, 2022). The format will be the same 
 as in previous years with an emphasis on short talks presenting current res
 earch ideas/grant submissions. Learn more… For further details\, to partici
 pate and to be included on a mailing list please contact Laura McClaskey […
 ]
X-ALT-DESC;FMTTYPE=text/html: <p>After a two-year interruption\, the <stron
 g>NextGen & Dalton Cardiovascular Forum</strong> is to be re-started (July\
 , 2022). The format will be the same as in previous years with an emphasis 
 on short talks presenting current research ideas/grant submissions. <a href
 ="https://precisionhealth.missouri.edu/events/nextgen-dalton-cardiovascular
 -forum-july-28-2022" target="_blank" rel="noopener">Learn more...</a></p><p
 >For further details\, to participate and to be included on a mailing list 
 please contact Laura McClaskey (<a title="mailto:McClaskeyL@missouri.edu" h
 ref="mailto:McClaskeyL@missouri.edu">McClaskeyL@missouri.edu</a>)</p>
CATEGORIES:University of Missouri
ORGANIZER;CN="McKinzie":MAILTO:tolliver.m@wustl.edu
URL;VALUE=URI:https://icts.wustl.edu/events/event/nextgen-dalton-cardiovasc
 ular-forum/
END:VEVENT
BEGIN:VTIMEZONE
TZID:America/Chicago
BEGIN:DAYLIGHT
TZOFFSETFROM:-0600
TZOFFSETTO:-0500
DTSTART:20220313T080000
TZNAME:CDT
END:DAYLIGHT
END:VTIMEZONE
END:VCALENDAR
