BEGIN:VCALENDAR
VERSION:2.0
PRODID:-//Clinical &amp; Translational Sciences//NONSGML Events//EN
CALSCALE:GREGORIAN
X-ORIGINAL-URL:https://icts.wustl.edu/events/
X-WR-CALDESC:Clinical &amp; Translational Sciences - Events
BEGIN:VEVENT
UID:20210818T1953Z-1629316402.6075-EO-23065-1@172.23.128.19
STATUS:CONFIRMED
DTSTAMP:20260425T211821Z
CREATED:20210818T185309Z
LAST-MODIFIED:20210818T185309Z
DTSTART;TZID=America/Chicago:20210819T120000
DTEND;TZID=America/Chicago:20210819T130000
SUMMARY: NextGen Precision Health Discovery Series
DESCRIPTION: Advancing the University’s Research Mission through Multidisci
 plinarity in Biomedicine Presented by Christopher Contag\, PhD Noon to 1 p.
 m. Thursday\, August 19\, 2021 This is a virtual seminar via Zoom. Please r
 egister and access information will be sent to your email before the event.
  Register to attend
X-ALT-DESC;FMTTYPE=text/html: <h2>Advancing the University’s Research Missi
 on through Multidisciplinarity in Biomedicine</h2><p>Presented by Christoph
 er Contag\, PhD</p><p>Noon to 1 p.m.</p><p>Thursday\, August 19\, 2021</p><
 p><em>This is a virtual seminar via Zoom. Please register and access inform
 ation will be sent to your email before the event.</em></p><p><strong><a hr
 ef="https://umsystem.zoom.us/webinar/register/WN_n1GcU_yKRQyVbYsMd7QVew">Re
 gister to attend</a></strong></p>
ORGANIZER;CN="Brian":MAILTO:bmarston@wustl.edu
URL;VALUE=URI:https://icts.wustl.edu/events/event/nextgen-precision-health-
 discovery-series/
END:VEVENT
BEGIN:VTIMEZONE
TZID:America/Chicago
BEGIN:DAYLIGHT
TZOFFSETFROM:-0600
TZOFFSETTO:-0500
DTSTART:20210314T080000
TZNAME:CDT
END:DAYLIGHT
END:VTIMEZONE
END:VCALENDAR
