BEGIN:VCALENDAR
VERSION:2.0
PRODID:-//Clinical &amp; Translational Sciences//NONSGML Events//EN
CALSCALE:GREGORIAN
X-ORIGINAL-URL:https://icts.wustl.edu/events/
X-WR-CALDESC:Clinical &amp; Translational Sciences - Events
BEGIN:VEVENT
UID:20210818T1953Z-1629316402.6466-EO-23068-1@172.23.128.19
STATUS:CONFIRMED
DTSTAMP:20260423T064655Z
CREATED:20210818T190136Z
LAST-MODIFIED:20210818T190136Z
DTSTART;TZID=America/Chicago:20210922T120000
DTEND;TZID=America/Chicago:20210922T130000
SUMMARY: NextGen Precision Medicine Discovery Series
DESCRIPTION: Cores of discovery: How Thermo Fisher and NextGen Precision He
 alth are partnering on the resolution revolution Moderator: Michael Chapman
 \, PhD Panelists: Clarissa Durie\, MU\; Dr. Zach Berndsen\, MU\; Jeff Lengy
 el\, Thermo Fisher\; David Wall\, Thermo Fisher Noon to 1 p.m. Thursday\, S
 eptember 22\, 2021 This is a virtual seminar via Zoom. Please register and 
 access information will be sent to your […]
X-ALT-DESC;FMTTYPE=text/html: <h2>Cores of discovery: How Thermo Fisher and
  NextGen Precision Health are partnering on the resolution revolution</h2><
 p>Moderator: Michael Chapman\, PhD</p><p>Panelists: Clarissa Durie\, <em>MU
 </em>\; Dr. Zach Berndsen\, <em>MU\;</em> Jeff Lengyel\, <em>Thermo Fisher\
 ;</em> David Wall\, <em>Thermo Fisher</em></p><p>Noon to 1 p.m.</p><p>Thurs
 day\, September 22\, 2021</p><p><em>This is a virtual seminar via Zoom. Ple
 ase register and access information will be sent to your email before the e
 vent.</em></p><p><strong><a href="https://umsystem.zoom.us/webinar/register
 /WN_nunQJU_WQNKhJCxabWs5zg">Register to attend</a></strong></p><p> </p>
ORGANIZER;CN="Brian":MAILTO:bmarston@wustl.edu
URL;VALUE=URI:https://icts.wustl.edu/events/event/nextgen-precision-medicin
 e-discovery-series/
END:VEVENT
BEGIN:VTIMEZONE
TZID:America/Chicago
BEGIN:DAYLIGHT
TZOFFSETFROM:-0600
TZOFFSETTO:-0500
DTSTART:20210314T080000
TZNAME:CDT
END:DAYLIGHT
END:VTIMEZONE
END:VCALENDAR
