BEGIN:VCALENDAR
VERSION:2.0
PRODID:-//Clinical &amp; Translational Sciences//NONSGML Events//EN
CALSCALE:GREGORIAN
X-ORIGINAL-URL:https://icts.wustl.edu/events/
X-WR-CALDESC:Clinical &amp; Translational Sciences - Events
BEGIN:VEVENT
UID:20180212T1533Z-1518449592.8533-EO-10760-1@172.21.70.41
STATUS:CONFIRMED
DTSTAMP:20260422T122254Z
CREATED:20191220T215923Z
LAST-MODIFIED:20191226T213125Z
DTSTART;TZID=America/Chicago:20180215T160000
DTEND;TZID=America/Chicago:20180215T170000
SUMMARY: #SciCommThursdays – Communicating Your Science
DESCRIPTION: “Lost in Translation: Communicating with a Multidisciplinary S
 cientific Audience”Thursday\, February 15\, 20184 – 5 p.m.Connor Auditorium
 Farrell Learning and Teaching Center SpeakersDr. Andrew Knight\, Associate 
 Professor\, Olin Business SchoolDr. Alan Schwartz\, Alumni Endowed Professo
 r of Pediatrics Click here to register (optional) All members of the WashU 
 community are welcome to attend! Lite refreshments will be served. Registra
 tion […]
X-ALT-DESC;FMTTYPE=text/html: <h4><strong>"Lost in Translation: Communicati
 ng with a Multidisciplinary Scientific Audience"</strong><br />Thursday\, F
 ebruary 15\, 2018<br />4 – 5 p.m.<br />Connor Auditorium<br />Farrell Learn
 ing and Teaching Center</h4><p><strong><u><span style="font-family: 'Trebuc
 het MS'\,'sans-serif'\;">Speakers</span></u></strong><br />Dr. Andrew Knigh
 t\, Associate Professor\, Olin Business School<br />Dr. Alan Schwartz\, Alu
 mni Endowed Professor of Pediatrics</p><p><a href="http://mailingsresponse.
 wustl.edu/trk/click?ref=z1030up2e7_1-9a18x36ea9x05220&" target="_blank" rel
 ="noopener noreferrer">Click here to register</a> (optional)</p><p>All memb
 ers of the WashU community are welcome to attend! Lite refreshments will be
  served. Registration is encouraged but not required.</p><p>Visit <a href="
 http://mailingsresponse.wustl.edu/trk/click?ref=z1030up2e7_1-9a18x36261x052
 20&" target="_blank" rel="noopener noreferrer">becker.wustl.edu/SciCommThur
 sdays</a> for more information and registration links. Contact Mychal Voorh
 ees at (314) 362-4734 or <a href="mailto:mychal.voorhees@wustl.edu">mychal.
 voorhees@wustl.edu</a> with questions.</p><p><a href="http://mailingsrespon
 se.wustl.edu/trk/click?ref=z1030up2e7_1-9a18x36261x05220&">#SciComm Thursda
 ys</a> is co-sponsored by Becker Medical Library and the Institute of Clini
 cal and Translational Research. The series features WashU faculty and staff
 \, plus expert guests from the St. Louis community. Join us to hear valuabl
 e perspectives on crafting and disseminating stories about science for any 
 audience\, including grantors\, scientists from other fields\, the public a
 nd the media.<span style="font-size: 10.0pt\; font-family: 'Arial'\,'sans-s
 erif'\; color: #333333\;">​​</span></p><p><a href="http://mailingsresponse.
 wustl.edu/trk/click?ref=z1030up2e7_1-9a18x36eaax05220&">​​#SciComm Thursday
 s - February Flier</a></p>
ORGANIZER;CN="McKinzie":MAILTO:tolliver.m@wustl.edu
URL;VALUE=URI:https://icts.wustl.edu/events/event/scicommthursdays-communic
 ating-your-science/
END:VEVENT
BEGIN:VTIMEZONE
TZID:America/Chicago
BEGIN:STANDARD
TZOFFSETFROM:-0500
TZOFFSETTO:-0600
DTSTART:20171105T070000
TZNAME:CST
END:STANDARD
END:VTIMEZONE
END:VCALENDAR
