BEGIN:VCALENDAR
VERSION:2.0
PRODID:-//Clinical &amp; Translational Sciences//NONSGML Events//EN
CALSCALE:GREGORIAN
X-ORIGINAL-URL:https://icts.wustl.edu/events/
X-WR-CALDESC:Clinical &amp; Translational Sciences - Events
BEGIN:VEVENT
UID:20201031T1640Z-1604162408.6286-EO-18278-1@172.23.128.18
STATUS:CONFIRMED
DTSTAMP:20260425T102851Z
CREATED:20201029T184316Z
LAST-MODIFIED:20201029T184448Z
DTSTART;TZID=America/Chicago:20201111T153000
DTEND;TZID=America/Chicago:20201111T163000
SUMMARY: Skandalaris Startup Webinar: Pitch Workshop
DESCRIPTION: Learn how to pitch your idea with confidence by identifying th
 e problem you hope to solve\, sharing the solution\, market\, competition\,
  and value proposition for your potential customers. Special attention will
  be focused on identifying the investment needed and the areas you need ass
 istance to bring your idea to life. For more information and to […]
X-ALT-DESC;FMTTYPE=text/html: <p>Learn how to pitch your idea with confiden
 ce by identifying the problem you hope to solve\, sharing the solution\, ma
 rket\, competition\, and value proposition for your potential customers. Sp
 ecial attention will be focused on identifying the investment needed and th
 e areas you need assistance to bring your idea to life.</p><p><a href="http
 s://skandalaris.wustl.edu/event/2020/10/08/skandalaris-startup-webinar-pitc
 h-workshop/">For more information and to register</a></p>
LOCATION:Online - Zoom
GEO:38.635144;-90.262929
ORGANIZER;CN="Brian":MAILTO:bmarston@wustl.edu
URL;VALUE=URI:https://icts.wustl.edu/events/event/skandalaris-startup-webin
 ar-pitch-workshop/
END:VEVENT
BEGIN:VTIMEZONE
TZID:America/Chicago
BEGIN:STANDARD
TZOFFSETFROM:-0500
TZOFFSETTO:-0600
DTSTART:20201101T070000
TZNAME:CST
END:STANDARD
END:VTIMEZONE
END:VCALENDAR
