BEGIN:VCALENDAR
VERSION:2.0
PRODID:-//Clinical &amp; Translational Sciences//NONSGML Events//EN
CALSCALE:GREGORIAN
X-ORIGINAL-URL:https://icts.wustl.edu/events/
X-WR-CALDESC:Clinical &amp; Translational Sciences - Events
BEGIN:VEVENT
UID:20210106T0222Z-1609899743.1324-EO-19178-1@172.23.128.19
STATUS:CONFIRMED
DTSTAMP:20260420T121659Z
CREATED:20210105T160955Z
LAST-MODIFIED:20210105T160955Z
DTSTART;VALUE=DATE:20210121
DTEND;VALUE=DATE:20210122
SUMMARY: STL Genome Editing 2021…Virtually A New Beginning
DESCRIPTION: For more information/To register Keynote Speaker:  Charlie Ger
 sbach\, Ph.D.\, Rooney Family Associate Professor of Biomedical Engineering
 \, Duke University Presentations in genome editing on cells\, animals\, pla
 nts\, & therapeutics by: Soren Warming\, Associate Director of Molecular Bi
 ology\, Genentech Xiaoxia Cui\, Director of the Genome Engineering & iPSC C
 enter\, Washington University in St. Louis Tim Peterson\, Assistant Profess
 or of Medicine\, Washington University […]
X-ALT-DESC;FMTTYPE=text/html: <h4><a href="https://www.genome.wustl.edu/cal
 endar_event/stl-genome-editing-2021/">For more information/To register</a><
 /h4><h4><strong>Keynote Speaker:  </strong><strong>Charlie Gersbach\, Ph.D.
 \, Rooney Family Associate Professor of Biomedical Engineering\, </strong><
 strong>Duke University</strong></h4><h5>Presentations in genome editing on 
 cells\, animals\, plants\, & therapeutics by:</h5><ul><li>Soren Warming\, A
 ssociate Director of Molecular Biology\, Genentech</li><li>Xiaoxia Cui\, Di
 rector of the Genome Engineering & iPSC Center\, <span class="dd">Washingto
 n University in St. Louis</span></li><li>Tim Peterson\, <span class="dd">As
 sistant Professor of Medicine</span>\, <span class="dd">Washington Universi
 ty in St. Louis</span></li><li>Shengdar Tsai\, Assistant Member of the Depa
 rtment of Hematology\, St. Jude Children’s Research Hospital</li><li>Dongsh
 eng Duan\, Margaret Proctor Mulligan Professor in Medical Research\, School
  of Medicine\, University of Missouri\, Columbia</li><li>Ibrahim Kurt\, Ph.
  D.  Candidate\, Harvard University</li><li>Andrew Andzlone\, Head of the P
 rime Editing Platform at Prime Medicine\, Inc.</li><li>John Doench\, Direct
 or R&D\, Institute Scientist\, Broad Institute of MIT and Harvard Universit
 y</li><li>Traver Hart\, Assistant Professor\, Department of Bioinformatics 
 and Computational Biology\, The University of Texas MD Anderson Cancer Cent
 er</li><li>Aron Geurts\, Associate Professor\, Department of Physiology\,  
 Medical College of Wisconsin</li><li>Michael Kosicki\, Postdoctoral Fellow\
 , Lawrence Berkeley National Laboratory</li><li>Andrew Yoo\, Associate Prof
 essor of Developmental Biology\,  <span class="dd">Washington University in
  St. Louis</span></li><li>Martin Kampmann\, Associate Professor\, Institute
  for Neurodegenerative Diseases\, <span id="othpos">UCSF Weill Institute fo
 r Neurosciences\, </span>University of California\, San Francisco</li><li>A
 lejandro Chavez\,  Assistant Professor of Pathology & Cell Biology\, Columb
 ia University</li></ul><h5>Participate in the online Poster Session.  Links
  will be posted and shared <a href="https://www.genome.wustl.edu/calendar_e
 vent/stl-genome-editing-2021/">here</a>.</h5><p><strong>Organized by:</stro
 ng></p><p>Xiaoxia Cui\, Genome Engineering & iPSC Center</p>
LOCATION:Online - Zoom
GEO:38.635144;-90.262929
ORGANIZER;CN="Brian":MAILTO:bmarston@wustl.edu
URL;VALUE=URI:https://icts.wustl.edu/events/event/stl-genome-editing-2021vi
 rtually-a-new-beginning/
ATTACH;FMTTYPE=image/png:https://icts.wustl.edu/app/uploads/2021/01/Black-Yellow-Blue-Video-Game-Simple-Gaming-YouTube-Channel-Art-1024x576-1.png
END:VEVENT
BEGIN:VTIMEZONE
TZID:America/Chicago
BEGIN:STANDARD
TZOFFSETFROM:-0500
TZOFFSETTO:-0600
DTSTART:20201101T070000
TZNAME:CST
END:STANDARD
END:VTIMEZONE
END:VCALENDAR
