BEGIN:VCALENDAR
VERSION:2.0
PRODID:-//Clinical &amp; Translational Sciences//NONSGML Events//EN
CALSCALE:GREGORIAN
X-ORIGINAL-URL:https://icts.wustl.edu/events/
X-WR-CALDESC:Clinical &amp; Translational Sciences - Events
BEGIN:VEVENT
UID:20210401T0503Z-1617253404.7754-EO-20824-1@172.23.128.19
STATUS:CONFIRMED
DTSTAMP:20260420T235347Z
CREATED:20210331T182319Z
LAST-MODIFIED:20210331T182319Z
DTSTART;TZID=America/Chicago:20210420T100000
DTEND;TZID=America/Chicago:20210420T111500
SUMMARY: Tips and Tricks for the SBIR/STTR Grant Process
DESCRIPTION: Join the Skandalaris Center and our ecosystem partners the Mis
 souri Small Business Development Center (SBDC) and BioGenerator as we share
  out some helpful tips when framing research & development for SBIR/STTR. L
 earn more and register here.  
X-ALT-DESC;FMTTYPE=text/html: <p>Join the Skandalaris Center and our ecosys
 tem partners the Missouri Small Business Development Center (SBDC) and BioG
 enerator as we share out some helpful tips when framing research & developm
 ent for <a href="https://www.sbir.gov/about" target="_blank" rel="noopener 
 noreferrer" data-auth="NotApplicable">SBIR/STTR</a>.</p><p><a href="https:/
 /skandalaris.wustl.edu/event/2021/03/25/how-to-navigate-the-sbir-sttr-grant
 -process/" target="_blank" rel="noopener">Learn more and register here.</a>
 </p><p> </p>
LOCATION:Online - Zoom
GEO:38.635144;-90.262929
ORGANIZER;CN="McKinzie":MAILTO:tolliver.m@wustl.edu
URL;VALUE=URI:https://icts.wustl.edu/events/event/tips-and-tricks-for-the-s
 bir-sttr-grant-process/
END:VEVENT
BEGIN:VTIMEZONE
TZID:America/Chicago
BEGIN:DAYLIGHT
TZOFFSETFROM:-0600
TZOFFSETTO:-0500
DTSTART:20210314T080000
TZNAME:CDT
END:DAYLIGHT
END:VTIMEZONE
END:VCALENDAR
