BEGIN:VCALENDAR
VERSION:2.0
PRODID:-//Clinical &amp; Translational Sciences//NONSGML Events//EN
CALSCALE:GREGORIAN
X-ORIGINAL-URL:https://icts.wustl.edu/events/
X-WR-CALDESC:Clinical &amp; Translational Sciences - Events
BEGIN:VEVENT
UID:20200618T1834Z-1592505261.4321-EO-16271-1@172.23.128.19
STATUS:CONFIRMED
DTSTAMP:20260421T132649Z
CREATED:20200616T174753Z
LAST-MODIFIED:20200717T163350Z
DTSTART;TZID=America/Chicago:20200917T160000
DTEND;TZID=America/Chicago:20200917T164500
SUMMARY: Venture Café – Brian Kim\, MD and Duke Leahey\, MA
DESCRIPTION: Precision Medicine Thursdays at Venture Café Title – “Discover
 y of a New Drug to a Digital Center of Excellence for Chronic Itch” Venture
  Café Virtual View more
X-ALT-DESC;FMTTYPE=text/html: <p><strong>Precision Medicine Thursdays at Ve
 nture Café</strong></p><p>Title - "Discovery of a New Drug to a Digital Cen
 ter of Excellence for Chronic Itch"</p><p><em><a href="https://venturecafes
 tl.org/thisweek/" target="blank" rel="noopener noreferrer">Venture Café Vir
 tual</a><br /></em></p><div class="wp-block-button"><a class="wp-block-butt
 on__link" href="https://ictspm.wustl.edu/calendar_event/chronic-itch-drug-d
 iscovery/" target="blank" rel="noopener noreferrer">View more</a></div>
CATEGORIES:Precision Health
LOCATION:Venture Café St. Louis
GEO:38.634399;-90.250249
ORGANIZER;CN="McKinzie":MAILTO:tolliver.m@wustl.edu
URL;VALUE=URI:https://icts.wustl.edu/events/event/venture-cafe-brian-kim-md
 /
END:VEVENT
BEGIN:VTIMEZONE
TZID:America/Chicago
BEGIN:DAYLIGHT
TZOFFSETFROM:-0600
TZOFFSETTO:-0500
DTSTART:20200308T080000
TZNAME:CDT
END:DAYLIGHT
END:VTIMEZONE
END:VCALENDAR
