BEGIN:VCALENDAR
VERSION:2.0
PRODID:-//Clinical &amp; Translational Sciences//NONSGML Events//EN
CALSCALE:GREGORIAN
X-ORIGINAL-URL:https://icts.wustl.edu/events/
X-WR-CALDESC:Clinical &amp; Translational Sciences - Events
BEGIN:VEVENT
UID:20200207T0515Z-1581052536.9009-EO-9776-1@172.23.128.18
STATUS:CONFIRMED
DTSTAMP:20260424T031433Z
CREATED:20200121T165056Z
LAST-MODIFIED:20200121T165056Z
DTSTART;TZID=America/Chicago:20200127T130000
DTEND;TZID=America/Chicago:20200127T160000
SUMMARY: Vir Biotechnology Research Symposium
DESCRIPTION: A kickoff celebration of the new Vir Biotechnology and School 
 of Medicine partnership. Download Flyer (pdf)
X-ALT-DESC;FMTTYPE=text/html: <p>A kickoff celebration of the new Vir Biote
 chnology and School of Medicine partnership.</p><div class="wp-block-button
 "><a class="wp-block-button__link" href="https://wustl.box.com/s/l04v0j63ow
 5uczk9u0iwftyrvkxgec1f" target="blank" rel="noopener noreferrer">Download F
 lyer (pdf)</a></div>
LOCATION:Eric P. Newman Education Center (EPNEC)
GEO:38.636837;-90.262403
ORGANIZER;CN="McKinzie":MAILTO:tolliver.m@wustl.edu
URL;VALUE=URI:https://icts.wustl.edu/events/event/vir-biotechnology-researc
 h-symposium/
END:VEVENT
BEGIN:VTIMEZONE
TZID:America/Chicago
BEGIN:STANDARD
TZOFFSETFROM:-0500
TZOFFSETTO:-0600
DTSTART:20191103T070000
TZNAME:CST
END:STANDARD
END:VTIMEZONE
END:VCALENDAR
