BEGIN:VCALENDAR
VERSION:2.0
PRODID:-//Clinical &amp; Translational Sciences//NONSGML Events//EN
CALSCALE:GREGORIAN
X-ORIGINAL-URL:https://icts.wustl.edu/events/
X-WR-CALDESC:Clinical &amp; Translational Sciences - Events
BEGIN:VEVENT
UID:20211004T1810Z-1633371005.0808-EO-24064-1@172.23.128.19
STATUS:CONFIRMED
DTSTAMP:20260423T002943Z
CREATED:20211004T174653Z
LAST-MODIFIED:20211004T174653Z
DTSTART;TZID=America/Chicago:20211111T130000
DTEND;TZID=America/Chicago:20211111T153000
SUMMARY: WUNDIR Meeting
DESCRIPTION: The Washington University Network for Dissemination and Implem
 entation Research (WUNDIR)\, is an informal network of researchers with a c
 ommon interest in dissemination and implementation science in a variety of 
 different settings and sectors. Learn more and register here.
X-ALT-DESC;FMTTYPE=text/html: <p>The Washington University Network for Diss
 emination and Implementation Research (WUNDIR)\, is an informal network of 
 researchers with a common interest in dissemination and implementation scie
 nce in a variety of different settings and sectors.</p><p><a href="https://
 implementationresearch.wustl.edu/calendar_event/wundir-meeting-2/" target="
 _blank" rel="noopener">Learn more and register here</a>.</p>
ORGANIZER;CN="McKinzie":MAILTO:tolliver.m@wustl.edu
URL;VALUE=URI:https://icts.wustl.edu/events/event/wundir-meeting-2/
END:VEVENT
BEGIN:VTIMEZONE
TZID:America/Chicago
BEGIN:STANDARD
TZOFFSETFROM:-0500
TZOFFSETTO:-0600
DTSTART:20211107T070000
TZNAME:CST
END:STANDARD
END:VTIMEZONE
END:VCALENDAR
